BEGIN:VCALENDAR
VERSION:2.0
PRODID:-//ChamberMaster//Event Calendar 2.0//EN
METHOD:PUBLISH
X-PUBLISHED-TTL:P3D
REFRESH-INTERVAL:P3D
CALSCALE:GREGORIAN
BEGIN:VEVENT
DTSTART:20180204T220000Z
DTEND:20180205T000000Z
X-MICROSOFT-CDO-ALLDAYEVENT:FALSE
SUMMARY:Symphony of the Redwoods Winter Concert
DESCRIPTION:Dvorak: Slavonic Dance No. 1 in C minor\n\nBrahms: Double Concerto\, featuring Jay Zhong\, violin\; Stephen Harrison\, cello\n\nSchumann: Symphony No. 2
X-ALT-DESC;FMTTYPE=text/html:Dvorak: Slavonic Dance No. 1 in C minor<br />\nBrahms: Double Concerto\, featuring Jay Zhong\, violin\; Stephen Harrison\, cello<br />\nSchumann: Symphony No. 2
LOCATION:Cotton Auditorium - 500 N. Harold St\, Fort Bragg\, CA 95437
UID:e.2883.5515
SEQUENCE:3
DTSTAMP:20260423T122244Z
URL:http://mendocinocoast.smartcms.site/events/details/symphony-of-the-redwoods-winter-concert-02-04-2018-5515
END:VEVENT

END:VCALENDAR
