BEGIN:VCALENDAR
VERSION:2.0
PRODID:-//ChamberMaster//Event Calendar 2.0//EN
METHOD:PUBLISH
X-PUBLISHED-TTL:P3D
REFRESH-INTERVAL:P3D
CALSCALE:GREGORIAN
BEGIN:VEVENT
DTSTART:20190203T033000Z
DTEND:20190203T050000Z
X-MICROSOFT-CDO-ALLDAYEVENT:FALSE
SUMMARY:Symphony of the Redwoods Winter Concert
DESCRIPTION:Beethoven: Violin Concerto\, featuring violinist Yevgeny Kutik Shostakovich: Symphony N  1
X-ALT-DESC;FMTTYPE=text/html:Beethoven: Violin Concerto\, featuring violinist Yevgeny Kutik Shostakovich: Symphony N&ordm\; 1
LOCATION:All performances at Cotton Auditorium - 500 N. Harold St\, Fort Bragg\, CA 95437
UID:e.2883.10490
SEQUENCE:3
DTSTAMP:20260422T193029Z
URL:http://mendocinocoast.smartcms.site/events/details/symphony-of-the-redwoods-winter-concert-02-02-2019-10490
END:VEVENT

END:VCALENDAR
