BEGIN:VCALENDAR
VERSION:2.0
PRODID:-//ChamberMaster//Event Calendar 2.0//EN
METHOD:PUBLISH
X-PUBLISHED-TTL:P3D
REFRESH-INTERVAL:P3D
CALSCALE:GREGORIAN
BEGIN:VEVENT
DTSTART;VALUE=DATE:20170320
DTEND;VALUE=DATE:20170321
TRANSP:TRANSPARENT
X-MICROSOFT-CDO-ALLDAYEVENT:TRUE
SUMMARY:Symphony of the Redwoods Season Finale
DESCRIPTION:Symphony of the Redwoods Welcomes Return of Accomplished Pianist to Mendocino County for\nSeason Finale ConcertsFORT BRAGG\, Calif. â€“ March 15\, 2017 â€“ Pianist and Steinway & Sons recording artist\, Spencer Myer\, will join the Symphony of the Redwoods to close out their 2016-2017 concert season. Performances will be on Saturday\, April 8\, at the new time of 7:30pm and Sunday\, April 9\, at 2pm at Cotton Auditorium in Fort Bragg. The Symphony\, led by maestro Allan Pollack\, will perform Brahmsâ€™ Symphony NÂº 3\, and Beethovenâ€™s Piano Concerto NÂº 4\, with Myer as the featured soloist.\nThis upcoming concert program holds a special place in Myerâ€™s heart. He lists Beethovenâ€™s fourth Piano Concerto in his top three favorite piano concerti to perform\, and has played this particular piece nearly 20 times since he first performed it in 2004. Moreover\, Myer played this piece in his only performance with his hometown symphony\, The Cleveland Orchestra\, during the final round of the Cleveland International Piano Competition. â€œWhile one may often choose a more â€˜impressiveâ€™ concerto for a final round of a piano competition\, my thought in this case was not on winning\, but rather what I would desire to play with the Cleveland Orchestra were I to make it all the way to the final round\,â€ he explained. â€œFor those 35 minutes on stage with one of the world's greatest ensembles\, my only thought was on enjoying every moment with them\, recreating this gorgeous work.â€\nMyer is also celebrating his debut on the Steinway & Sons label with the release of his latest album\, Piano Rags of William Bolcom. Contemporary American composer and piano prodigy\, William Bolcom\, began studying music composition at the University of Washington at age 11. After a career of demonstrating his unique blend of pop and classical genres\, Bolcom was awarded the Pulitzer Prize for music and earned the National Medal for the Arts. â€œIt was wonderful to immerse myself in that terrific music for a period\,â€ said Myer. â€œThe process of recording was a joy from beginning to end\, thanks to an amazing team at the Sono Luminus studio.â€\nThese upcoming performances will mark Myerâ€™s third visit to Mendocino County. â€œI have enjoyed a recurring relationship with the folks at the Mendocino Music Festival\, and have treasured each time I've come\,â€ he said. â€œI think northern California is one of America's most special places and landscapes\, and the love for the arts in the community there is unlike most I've encountered around the country. I look forward to this trip\, and to coming back many times!â€\nThere is still time to support the Symphony in their Twelve Nights Out dinner raffle. The grand prize is dinner for two at 12 great local restaurants. More than half of the allotted 100 tickets have been sold. Purchase yours for $100 before the grand prize drawing at the final concert\, Sunday\, April 9\, 2017. Tickets can be purchased from any Symphony board member or from Tess Albin-Smith\,Â tess@alumni.ucdavis.edu or 707.961.1123.\nAll Symphony of the Redwoods concerts will be at Cotton Auditorium\, 500 N. Harold Street\, Fort Bragg. Tickets are available for $20 at Harvest Market and the Redwood Coast Senior Center in Fort Bragg\, Out of This World in Mendocino\, online atÂ http://www.symphonyoftheredwoods.org/tickets.php\, and at the door. Attendees 18 and under are always free. For more information\, please contact our executive director\, Alex Pierangeli\, at 707-946-0898 orÂ symphony@mcn.org.
X-ALT-DESC;FMTTYPE=text/html:<p>Symphony of the Redwoods Welcomes Return of Accomplished Pianist to Mendocino County for<br />Season Finale Concerts</p><p>FORT BRAGG\, Calif. â€“ March 15\, 2017 â€“ Pianist and Steinway &amp\; Sons recording artist\, Spencer Myer\, will join the Symphony of the Redwoods to close out their 2016-2017 concert season. Performances will be on Saturday\, April 8\, at the new time of 7:30pm and Sunday\, April 9\, at 2pm at Cotton Auditorium in Fort Bragg. The Symphony\, led by maestro Allan Pollack\, will perform Brahmsâ€™ Symphony NÂº 3\, and Beethovenâ€™s Piano Concerto NÂº 4\, with Myer as the featured soloist.<br />This upcoming concert program holds a special place in Myerâ€™s heart. He lists Beethovenâ€™s fourth Piano Concerto in his top three favorite piano concerti to perform\, and has played this particular piece nearly 20 times since he first performed it in 2004. Moreover\, Myer played this piece in his only performance with his hometown symphony\, The Cleveland Orchestra\, during the final round of the Cleveland International Piano Competition. â€œWhile one may often choose a more â€˜impressiveâ€™ concerto for a final round of a piano competition\, my thought in this case was not on winning\, but rather what I would desire to play with the Cleveland Orchestra were I to make it all the way to the final round\,â€ he explained. â€œFor those 35 minutes on stage with one of the world's greatest ensembles\, my only thought was on enjoying every moment with them\, recreating this gorgeous work.â€<br />Myer is also celebrating his debut on the Steinway &amp\; Sons label with the release of his latest album\, Piano Rags of William Bolcom. Contemporary American composer and piano prodigy\, William Bolcom\, began studying music composition at the University of Washington at age 11. After a career of demonstrating his unique blend of pop and classical genres\, Bolcom was awarded the Pulitzer Prize for music and earned the National Medal for the Arts. â€œIt was wonderful to immerse myself in that terrific music for a period\,â€ said Myer. â€œThe process of recording was a joy from beginning to end\, thanks to an amazing team at the Sono Luminus studio.â€<br />These upcoming performances will mark Myerâ€™s third visit to Mendocino County. â€œI have enjoyed a recurring relationship with the folks at the Mendocino Music Festival\, and have treasured each time I've come\,â€ he said. â€œI think northern California is one of America's most special places and landscapes\, and the love for the arts in the community there is unlike most I've encountered around the country. I look forward to this trip\, and to coming back many times!â€<br />There is still time to support the Symphony in their Twelve Nights Out dinner raffle. The grand prize is dinner for two at 12 great local restaurants. More than half of the allotted 100 tickets have been sold. Purchase yours for $100 before the grand prize drawing at the final concert\, Sunday\, April 9\, 2017. Tickets can be purchased from any Symphony board member or from Tess Albin-Smith\,Â <a href="mailto:tess@alumni.ucdavis.edu">tess@alumni.ucdavis.edu</a> or 707.961.1123.<br />All Symphony of the Redwoods concerts will be at Cotton Auditorium\, 500 N. Harold Street\, Fort Bragg. Tickets are available for $20 at Harvest Market and the Redwood Coast Senior Center in Fort Bragg\, Out of This World in Mendocino\, online atÂ <a href="http://symphonyoftheredwoods.org/tickets"><a href="http://www.symphonyoftheredwoods.org/tickets.php">http://www.symphonyoftheredwoods.org/tickets.php</a></a>\, and at the door. Attendees 18 and under are always free. For more information\, please contact our executive director\, Alex Pierangeli\, at 707-946-0898 orÂ <a href="mailto:symphony@mcn.org">symphony@mcn.org</a>.</p><p><span style="white-space: pre\;"> </span></p>
LOCATION:Cotton Auditorium Fort Bragg
UID:e.2883.1164
SEQUENCE:3
DTSTAMP:20260424T080050Z
URL:http://mendocinocoast.smartcms.site/events/details/symphony-of-the-redwoods-season-finale-03-20-2017-1164
END:VEVENT

END:VCALENDAR
