BEGIN:VCALENDAR
VERSION:2.0
PRODID:-//ChamberMaster//Event Calendar 2.0//EN
METHOD:PUBLISH
X-PUBLISHED-TTL:P3D
REFRESH-INTERVAL:P3D
CALSCALE:GREGORIAN
BEGIN:VEVENT
DTSTART:20191215T230000Z
DTEND:20191216T010000Z
X-MICROSOFT-CDO-ALLDAYEVENT:FALSE
SUMMARY:Symphony of the Redwoods Opus Chamber Music Concert Series Presents Two Sopranos: Songs of Nature and Passion
DESCRIPTION:Join two of the Mendocino Coast's beloved vocalists for an afternoon of many octaves!  Sarah and Abigail (lyric and coloratura sopranos respectively)\, come together again with a vocal concert of many genres and styles.  From art songs to arias\, enjoy the nuance and richness of the soprano voice.  Selections include a variety of pieces that elicit thoughts of nature and fiery passion\, including inspiring duets.  Featuring the virtuosity of Marie-Claire Dizin\, pianist\, no December concert would be complete without a touch of Holiday cheer!
X-ALT-DESC;FMTTYPE=text/html:<span style="font-family:arial\,helvetica\,sans-serif"><span style="font-size:12px"><span style="color:black">J</span>oin two of the Mendocino Coast&#39\;s beloved vocalists for an afternoon of many octaves!&nbsp\; Sarah and Abigail (lyric and coloratura sopranos respectively)\, come together again with a vocal concert of many genres and styles.&nbsp\; From art songs to arias\, enjoy the nuance and richness of the soprano voice.&nbsp\; Selections include a variety of pieces that elicit thoughts of nature and fiery passion\, including inspiring duets.&nbsp\; Featuring the virtuosity of Marie-Claire Dizin\, pianist\, no December concert would be complete without a touch of Holiday cheer!</span></span>
LOCATION:Preston Hall\, 44867 Main St Mendocino\, CA
UID:e.2883.12546
SEQUENCE:3
DTSTAMP:20260421T235135Z
URL:http://mendocinocoast.smartcms.site/events/details/symphony-of-the-redwoods-opus-chamber-music-concert-series-presents-two-sopranos-songs-of-nature-and-passion-12546
END:VEVENT

END:VCALENDAR
