BEGIN:VCALENDAR
VERSION:2.0
PRODID:-//ChamberMaster//Event Calendar 2.0//EN
METHOD:PUBLISH
X-PUBLISHED-TTL:P3D
REFRESH-INTERVAL:P3D
CALSCALE:GREGORIAN
BEGIN:VEVENT
DTSTART;VALUE=DATE:20190929
DTEND;VALUE=DATE:20190930
TRANSP:TRANSPARENT
X-MICROSOFT-CDO-ALLDAYEVENT:TRUE
SUMMARY:Symphony of the Redwoods Opus Chamber Music Concert Series Presents The Ives Collective
DESCRIPTION:The Ives Collective presents powerful live music experiences through fresh and informed interpretations of established masterworks and underappreciated gems. Susan Freier\, violin\; Stephen Harrison\, cello\; Carlos Ortega\, clarinet\; and Robin Sutherland\, piano will perform a special program of trios and quartets. The pieces they have chosen exemplify the autumnal Brahms\, Mozart at his most lyrical\, and the always eclectic Peter Schickele.
X-ALT-DESC;FMTTYPE=text/html:The Ives Collective presents powerful live music experiences through fresh and informed interpretations of established masterworks and underappreciated gems. Susan Freier\, violin\; Stephen Harrison\, cello\; Carlos Ortega\, clarinet\; and Robin Sutherland\, piano will perform a special program of trios and quartets. The pieces they have chosen exemplify the autumnal Brahms\, Mozart at his most lyrical\, and the always eclectic Peter Schickele.
LOCATION:Preston Hall 44867 Main St Mendocino\, CA 95460
UID:e.2883.11910
SEQUENCE:3
DTSTAMP:20260422T043721Z
URL:http://mendocinocoast.smartcms.site/events/details/symphony-of-the-redwoods-opus-chamber-music-concert-series-presents-the-ives-collective-11910
END:VEVENT

END:VCALENDAR
