BEGIN:VCALENDAR
VERSION:2.0
PRODID:-//ChamberMaster//Event Calendar 2.0//EN
METHOD:PUBLISH
X-PUBLISHED-TTL:P3D
REFRESH-INTERVAL:P3D
CALSCALE:GREGORIAN
BEGIN:VEVENT
DTSTART:20191124T230000Z
DTEND:20191125T010000Z
X-MICROSOFT-CDO-ALLDAYEVENT:FALSE
SUMMARY:Symphony of the Redwoods Opus Chamber Music Concert Series Presents Schuchmann & Steinbuck
DESCRIPTION:Mendocino Coast favorites cellist Burke Schuchmann and pianist Carolyn Steinbuck return!  Schuchmann\, known for his expressive tone and compelling interpretations\, and Steinbuck\, a dynamic soloist and frequent chamber music performer\, will present a cello/piano recital of works by Bach\, Beethoven\, Debussy and Martinu.  A highlight of the concert will be Beethoven's last cello sonata\, Opus 102\, #2\, in D major.  This piece\, suffused with a deep spirituality\, marked the beginning of his late style\, and is one of his most dramatic and experimental works.
X-ALT-DESC;FMTTYPE=text/html:<span style="font-size:12px"><span style="font-family:helvetica">Mendocino Coast favorites cellist Burke Schuchmann and pianist Carolyn Steinbuck return!&nbsp\; Schuchmann\, known for his expressive tone and compelling interpretations\, and Steinbuck\, a dynamic soloist and frequent chamber music performer\, will present a cello/piano recital of works by Bach\, Beethoven\, Debussy and Martinu.&nbsp\; A highlight of the concert will be Beethoven&#39\;s last cello sonata\, Opus 102\, #2\, in D major. &nbsp\;This piece\, suffused with a deep spirituality\, marked the beginning of his late style\, and is one of his most dramatic and experimental works.</span></span>
LOCATION:Preston Hall\, 44867 Main St Mendocino\, CA
UID:e.2883.12436
SEQUENCE:3
DTSTAMP:20260422T012020Z
URL:http://mendocinocoast.smartcms.site/events/details/symphony-of-the-redwoods-opus-chamber-music-concert-series-presents-schuchmann-steinbuck-12436
END:VEVENT

END:VCALENDAR
