BEGIN:VCALENDAR
VERSION:2.0
PRODID:-//ChamberMaster//Event Calendar 2.0//EN
METHOD:PUBLISH
X-PUBLISHED-TTL:P3D
REFRESH-INTERVAL:P3D
CALSCALE:GREGORIAN
BEGIN:VEVENT
DTSTART:20200315T220000Z
DTEND:20200316T000000Z
X-MICROSOFT-CDO-ALLDAYEVENT:FALSE
SUMMARY:Symphony of the Redwoods Opus Chamber Music Concert Series Presents Santa Rosa Chamber Players
DESCRIPTION:The instrumental combination of flute\, viola\, and piano creates a rich and beautiful sonority that Santa Rosa Symphony Chamber Players Kathleen Reynolds\, Alex Volonts\, and Kymry Esainko will explore to its full extent in works by Durufle\, Bloch\, Hahn\, Martinu and others. Audiences will experience the delightful contrasts of tone color\, musical genres\, and the exceptional technique of these fine musicians. This program is sure to provide an afternoon of exquisite pleasure.
X-ALT-DESC;FMTTYPE=text/html:<span style="font-size:16px">The instrumental combination of flute\, viola\, and piano creates a rich and beautiful sonority that Santa Rosa Symphony Chamber Players Kathleen Reynolds\, Alex Volonts\, and Kymry Esainko will explore to its full extent in works by Durufle\, Bloch\, Hahn\, Martinu and others. Audiences will experience the delightful contrasts of tone color\, musical genres\, and the exceptional technique of these fine musicians. This program is sure to provide an afternoon of exquisite pleasure.</span>
LOCATION:Preston Hall 44867 Main St Mendocino\, CA
UID:e.2883.12847
SEQUENCE:3
DTSTAMP:20260421T184643Z
URL:http://mendocinocoast.smartcms.site/events/details/symphony-of-the-redwoods-opus-chamber-music-concert-series-presents-santa-rosa-chamber-players-12847
END:VEVENT

END:VCALENDAR
