BEGIN:VCALENDAR
VERSION:2.0
PRODID:-//ChamberMaster//Event Calendar 2.0//EN
METHOD:PUBLISH
X-PUBLISHED-TTL:P3D
REFRESH-INTERVAL:P3D
CALSCALE:GREGORIAN
BEGIN:VEVENT
DTSTART:20191110T033000Z
DTEND:20191110T053000Z
X-MICROSOFT-CDO-ALLDAYEVENT:FALSE
SUMMARY:Symphony of the Redwoods Fall Concert - Evening Performance
DESCRIPTION:TIMELESS TREASURES Mozart: Overture to The Marriage of Figaro Schumann: Violin Concerto in D minor\, featuring violinist David McCarroll Mendelssohn: Symphony #3 in A minor\, Opus 56 "Scottish"
X-ALT-DESC;FMTTYPE=text/html:TIMELESS TREASURES Mozart: Overture to The Marriage of Figaro Schumann: Violin Concerto in D minor\, featuring violinist David McCarroll Mendelssohn: Symphony #3 in A minor\, Opus 56 &quot\;Scottish&quot\;
LOCATION:Cotton Auditorium - 500 N. Harold St\, Fort Bragg\, CA 95437
UID:e.2883.11999
SEQUENCE:3
DTSTAMP:20260422T011634Z
URL:http://mendocinocoast.smartcms.site/events/details/symphony-of-the-redwoods-fall-concert-evening-performance-11999
END:VEVENT

END:VCALENDAR
