BEGIN:VCALENDAR
VERSION:2.0
PRODID:-//ChamberMaster//Event Calendar 2.0//EN
METHOD:PUBLISH
X-PUBLISHED-TTL:P3D
REFRESH-INTERVAL:P3D
CALSCALE:GREGORIAN
BEGIN:VEVENT
DTSTART:20240317T023000Z
DTEND:20240317T041500Z
X-MICROSOFT-CDO-ALLDAYEVENT:FALSE
SUMMARY:Symphony of the Redwoods Concert
DESCRIPTION:Transport yourself to exotic places with these underperformed masterworks that highlight the orchestra. Violinist Andrew Sords tackles Bruch's Scottish Fantasy featuring virtuosic folk songs over the orchestra's impressionistic landscape. Bendix contrasts lush melodies and contemplative moods\, with fiery dances and driving rhythms in his masterful Symphony No. 3. Finally\, watch the skill and artistry of the SOR orchestra in the exciting and celebratory Polovistian Dances! This rousing concert ends with an exciting flourish to our season and beyond!
X-ALT-DESC;FMTTYPE=text/html:Transport yourself to exotic places with these underperformed masterworks that highlight the orchestra. Violinist Andrew Sords tackles Bruch&rsquo\;s Scottish Fantasy featuring virtuosic folk songs over the orchestra&rsquo\;s impressionistic landscape. Bendix contrasts lush melodies and contemplative moods\, with fiery dances and driving rhythms in his masterful Symphony No. 3. Finally\, watch the skill and artistry of the SOR orchestra in the exciting and celebratory Polovistian Dances! This rousing concert ends with an exciting flourish to our season and beyond!
LOCATION:Cotton Auditorium
UID:e.2883.23281
SEQUENCE:3
DTSTAMP:20260420T090159Z
URL:http://mendocinocoast.smartcms.site/events/details/symphony-of-the-redwoods-concert-23281
END:VEVENT

END:VCALENDAR
