BEGIN:VCALENDAR
VERSION:2.0
PRODID:-//ChamberMaster//Event Calendar 2.0//EN
METHOD:PUBLISH
X-PUBLISHED-TTL:P3D
REFRESH-INTERVAL:P3D
CALSCALE:GREGORIAN
BEGIN:VEVENT
DTSTART:20171112T033000Z
DTEND:20171112T053000Z
X-MICROSOFT-CDO-ALLDAYEVENT:FALSE
SUMMARY:Symphony Fall Concert
DESCRIPTION:A fun\, almost-pops concert launches Symphony of the Redwoods 2017-18 Season. The concert begins with the spirited & hauntingly familiar Hungarian Rhapsody No. 2 by Franz Liszt\, followed by the Lieutenant Kij  Suite by Prokofiev\, a comedic piece about an accidental and imaginary soldier awarded the highest of honors\, then "killed off" when the czar decides to meet him. The closing piece is George Gershwin's Piano Concerto\, when the orchestra will be joined by a consummate modern concert pianist\, Vivian Choi.
X-ALT-DESC;FMTTYPE=text/html:<span style="font-size:12px"><span style="font-family:verdana">A fun\, almost-pops concert launches Symphony of the Redwoods 2017-18 Season. The concert begins with the spirited &amp\; hauntingly familiar <em>Hungarian Rhapsody No. 2</em> by Franz Liszt\, followed by the <em>Lieutenant Kij</em></span></span><span style="font-family:calibri\,sans-serif"><span style="font-size:11.0pt"><span style="font-size:12px"><span style="font-family:verdana"><em>&eacute\; Suite</em> by Prokofiev\, a comedic piece about an accidental and imaginary soldier awarded the highest of honors\, then &quot\;killed off&quot\; when the czar decides to meet him. The closing piece is George Gershwin&#39\;s Piano Concerto\, when the orchestra will be joined by a consummate modern concert pianist\, Vivian Choi.</span></span></span></span>
LOCATION:Cotton Auditorum\, Fort Bragg
UID:e.2883.5291
SEQUENCE:3
DTSTAMP:20260423T191029Z
URL:http://mendocinocoast.smartcms.site/events/details/symphony-fall-concert-5291
END:VEVENT

END:VCALENDAR
