BEGIN:VCALENDAR
VERSION:2.0
PRODID:-//ChamberMaster//Event Calendar 2.0//EN
METHOD:PUBLISH
X-PUBLISHED-TTL:P3D
REFRESH-INTERVAL:P3D
CALSCALE:GREGORIAN
BEGIN:VEVENT
DTSTART:20171112T220000Z
DTEND:20171113T000000Z
X-MICROSOFT-CDO-ALLDAYEVENT:FALSE
SUMMARY:Symphony Fall Concert
DESCRIPTION:A fun\, almost-pops concert launches Symphony of the Redwoods 2017-18 Season. The concert begins with the spirited & hauntingly familiar Hungarian Rhapsody No. 2 by Franz Liszt\, followed by the Lieutenant Kij  Suite by Prokofiev\, a comedic piece about an accidental and imaginary soldier awarded the highest of honors\, then "killed off" when the czar decides to meet him. The closing piece is George Gershwin's Piano Concerto\, when the orchestra will be joined by a consummate modern concert pianist\, Vivian Choi.
X-ALT-DESC;FMTTYPE=text/html:<span style="font-family:verdana\,sans-serif"><span style="font-size:9pt">A fun\, almost-pops concert launches Symphony of the Redwoods 2017-18 Season. The concert begins with the spirited &amp\; hauntingly familiar&nbsp\;<em><span style="font-family:verdana\,sans-serif">Hungarian Rhapsody No. 2</span></em></span>&nbsp\;by Franz Liszt\, followed by the&nbsp\;<em><span style="font-family:verdana\,sans-serif">Lieutenant Kij</span></em></span><em><span style="font-family:verdana\,sans-serif"><span style="font-size:9pt">&eacute\; Suite</span></span></em><span style="font-family:verdana\,sans-serif"><span style="font-size:9pt">&nbsp\;by Prokofiev\, a comedic piece about an accidental and imaginary soldier awarded the highest of honors\, then &quot\;killed off&quot\; when the czar decides to meet him. The closing piece is George Gershwin&#39\;s Piano Concerto\, when the orchestra will be joined by a consummate modern concert pianist\, Vivian Choi.</span></span>
LOCATION:Cotton Auditorium\, Fort Bragg
UID:e.2883.5292
SEQUENCE:3
DTSTAMP:20260423T201809Z
URL:http://mendocinocoast.smartcms.site/events/details/symphony-fall-concert-11-12-2017-5292
END:VEVENT

END:VCALENDAR
