BEGIN:VCALENDAR
VERSION:2.0
PRODID:-//ChamberMaster//Event Calendar 2.0//EN
METHOD:PUBLISH
X-PUBLISHED-TTL:P3D
REFRESH-INTERVAL:P3D
CALSCALE:GREGORIAN
BEGIN:VEVENT
DTSTART:20180429T000000Z
DTEND:20180429T020000Z
X-MICROSOFT-CDO-ALLDAYEVENT:FALSE
SUMMARY:Symphony Dinner
DESCRIPTION:Saturday\, April 28\, 5-7pm\, the Senior Center offers dinner before the Symphony of the Redwoods Spring Concert. Plan to enjoy a "Pasta Extravaganza" served by Chef Sal Meza before you walk next door to Cotton Auditorium for an evening of brilliant classical music. choices include Pasta with Pesto\, Seafood Alfredo\, or classic Bolognese tomato/meat sauce - or maybe a sample combo! As always\, our $20 dinners start with a Caesar Salad\, end with dessert and include complimentary beer and wine. call 964 0443 to reserve tables and tickets. Proceeds benefit the Meals On Wheels Program.
X-ALT-DESC;FMTTYPE=text/html:Saturday\, April 28\, 5-7pm\, the Senior Center offers dinner before the Symphony of the Redwoods Spring Concert. Plan to enjoy a &quot\;Pasta Extravaganza&quot\; served by Chef Sal Meza before you walk next door to Cotton Auditorium for an evening of brilliant classical music. choices include Pasta with Pesto\, Seafood Alfredo\, or classic Bolognese tomato/meat sauce - or maybe a sample combo! As always\, our $20 dinners start with a Caesar Salad\, end with dessert and include complimentary beer and wine. call 964 0443 to reserve tables and tickets. Proceeds benefit the Meals On Wheels Program.
LOCATION:490 N Harold St Fort Bragg\, Ca
UID:e.2883.5652
SEQUENCE:3
DTSTAMP:20260423T091048Z
URL:http://mendocinocoast.smartcms.site/events/details/symphony-dinner-5652
END:VEVENT

END:VCALENDAR
