BEGIN:VCALENDAR
VERSION:2.0
PRODID:-//ChamberMaster//Event Calendar 2.0//EN
METHOD:PUBLISH
X-PUBLISHED-TTL:P3D
REFRESH-INTERVAL:P3D
CALSCALE:GREGORIAN
BEGIN:VEVENT
DTSTART:20210725T213000Z
DTEND:20210725T233000Z
X-MICROSOFT-CDO-ALLDAYEVENT:FALSE
SUMMARY:Symphony at the Gardens - Paul McCandless
DESCRIPTION:The Symphony of the Redwood presents outdoor concerts at the Mendocino Coast Botanical Gardens. All concerts will be professionally miked to enhance the outdoor music listening experience. This concert will feature GRAMMY award winner Paul McCandless with the celebrated Bay Area Trio Charged Particles. A gifted multi-instrumentalist and composer\, McCandless is known for beautiful performance on oboe\, English horn\, clarinet\, soprano saxophone\, and a collection of folk flutes.
X-ALT-DESC;FMTTYPE=text/html:The Symphony of the Redwood presents outdoor concerts at the Mendocino Coast Botanical Gardens. All concerts will be professionally miked to enhance the outdoor music listening experience. This concert will feature GRAMMY award winner Paul McCandless with the celebrated Bay Area Trio Charged Particles. A gifted multi-instrumentalist and composer\, McCandless is known for beautiful performance on oboe\, English horn\, clarinet\, soprano saxophone\, and a collection of folk flutes.
LOCATION:Mendocino Coast Botanical Gardens
UID:e.2883.13564
SEQUENCE:3
DTSTAMP:20260420T161710Z
URL:http://mendocinocoast.smartcms.site/events/details/symphony-at-the-gardens-paul-mccandless-13564
END:VEVENT

END:VCALENDAR
