BEGIN:VCALENDAR
VERSION:2.0
PRODID:-//ChamberMaster//Event Calendar 2.0//EN
METHOD:PUBLISH
X-PUBLISHED-TTL:P3D
REFRESH-INTERVAL:P3D
CALSCALE:GREGORIAN
BEGIN:VEVENT
DTSTART:20180714T220000Z
DTEND:20180715T000000Z
X-MICROSOFT-CDO-ALLDAYEVENT:FALSE
SUMMARY:Surreal& Psychedelic Art Show !
DESCRIPTION:The Artist Collective and Gallery in Elk welcomes new member Billy\nSprague with a featured show July 14th. We are honored to have this\nmulti-medium practicing artist here on the coast and the show promises a\nwide array of 2 & 3 dimensional work. Sprague has had solo exhibitions in\nLos Angeles\, Chicago\, Oakland and Berlin as well as participating in group\nshows as far as the UK\, Mexico and Japan. On display will be surreal\ngraphite & ink drawings\, abstract collage and cosmic etching prints.\nInfluences range from fungi\, plants\, insects\, natural psychedelics\,\nmeditation\, mountains\, shamanism & alchemy to name just a few. Also on\ndisplay will be his beautiful leather work under his Obsidian Monarch\nmoniker adorning everything from bicycle saddles\, flasks\, feathers\, knives\nand more!\n\n   All are welcomed to view the work and welcome this new coastal artist at\nthe opening reception from 3-5pm Saturday July 14th at the Elk Gallery.\nLocated at 6031 S. Hwy 1 in greater downtown Elk\, call for more information\,\n707-877-1128\n\n*His work will be on display starting July 2nd.\n\nYou can see Sprague's leather work at his obsidianmonarch.com website and\nhis Instagram account: @obsidianmonarch
X-ALT-DESC;FMTTYPE=text/html:The Artist Collective and Gallery in Elk welcomes new member Billy\nSprague with a featured show July 14th. We are honored to have this\nmulti-medium practicing artist here on the coast and the show promises a\nwide array of 2 &amp\; 3 dimensional work. Sprague has had solo exhibitions in\nLos Angeles\, Chicago\, Oakland and Berlin as well as participating in group\nshows as far as the UK\, Mexico and Japan. On display will be surreal\ngraphite &amp\; ink drawings\, abstract collage and cosmic etching prints.\nInfluences range from fungi\, plants\, insects\, natural psychedelics\,\nmeditation\, mountains\, shamanism &amp\; alchemy to name just a few. Also on\ndisplay will be his beautiful leather work under his Obsidian Monarch\nmoniker adorning everything from bicycle saddles\, flasks\, feathers\, knives\nand more!\n\n   All are welcomed to view the work and welcome this new coastal artist at\nthe opening reception from 3-5pm Saturday July 14th at the Elk Gallery.\nLocated at 6031 S. Hwy 1 in greater downtown Elk\, call for more information\,\n707-877-1128\n\n*His work will be on display starting July 2nd.\n\nYou can see Sprague's leather work at his obsidianmonarch.com website and\nhis Instagram account: @obsidianmonarch\n
LOCATION:Elk\, Ca
UID:e.2883.9102
SEQUENCE:3
DTSTAMP:20260423T040646Z
URL:http://mendocinocoast.smartcms.site/events/details/surreal-psychedelic-art-show-9102
END:VEVENT

END:VCALENDAR
