BEGIN:VCALENDAR
VERSION:2.0
PRODID:-//ChamberMaster//Event Calendar 2.0//EN
METHOD:PUBLISH
X-PUBLISHED-TTL:P3D
REFRESH-INTERVAL:P3D
CALSCALE:GREGORIAN
BEGIN:VEVENT
DTSTART:20190720T153000Z
DTEND:20190721T230000Z
X-MICROSOFT-CDO-ALLDAYEVENT:FALSE
SUMMARY:Surfzone Fundamentals
DESCRIPTION:Sea Kayak Surf Class Launch\, land\, and play in the surf zone with control\, safety\, finesse\, and FUN!!! Kayak control skills in the surfzone directly transfer to boat control in rock gardens. In this course\, we will hone kayak control skills as we paddle and play in the surfzone.
X-ALT-DESC;FMTTYPE=text/html:Sea Kayak Surf Class Launch\, land\, and play in the surf zone with control\, safety\, finesse\, and FUN!!! Kayak control skills in the surfzone directly transfer to boat control in rock gardens. In this course\, we will hone kayak control skills as we paddle and play in the surfzone.
LOCATION:Liquid Fusion Kayaking
UID:e.2883.11403
SEQUENCE:3
DTSTAMP:20260422T075930Z
URL:http://mendocinocoast.smartcms.site/events/details/surfzone-fundamentals-11403
END:VEVENT

END:VCALENDAR
