BEGIN:VCALENDAR
VERSION:2.0
PRODID:-//ChamberMaster//Event Calendar 2.0//EN
METHOD:PUBLISH
X-PUBLISHED-TTL:P3D
REFRESH-INTERVAL:P3D
CALSCALE:GREGORIAN
BEGIN:VEVENT
DTSTART:20190602T230000Z
DTEND:20190603T000000Z
X-MICROSOFT-CDO-ALLDAYEVENT:FALSE
SUMMARY:Sunday Afternoon with Look Tin Eli
DESCRIPTION:Come and enjoy a Sunday afternoon presentation on the Chinese\, Look Tin Eli\, 1882 Chinese Exclusion Act and its role in the incarceration of the Japanese in 1942.
X-ALT-DESC;FMTTYPE=text/html:Come and enjoy a Sunday afternoon presentation on the Chinese\, Look Tin Eli\, 1882 Chinese Exclusion Act and its role in the incarceration of the Japanese in 1942.
LOCATION:Kelley House\, 45007 Albion Street\, Mendocino
UID:e.2883.11451
SEQUENCE:3
DTSTAMP:20260422T094036Z
URL:http://mendocinocoast.smartcms.site/events/details/sunday-afternoon-with-look-tin-eli-11451
END:VEVENT

END:VCALENDAR
