BEGIN:VCALENDAR
VERSION:2.0
PRODID:-//ChamberMaster//Event Calendar 2.0//EN
METHOD:PUBLISH
X-PUBLISHED-TTL:P3D
REFRESH-INTERVAL:P3D
CALSCALE:GREGORIAN
BEGIN:VEVENT
DTSTART:20160706T170000Z
DTEND:20160706T190000Z
X-MICROSOFT-CDO-ALLDAYEVENT:FALSE
SUMMARY:Summertime Fruit Tree Pruning Workshop
DESCRIPTION:Sunday\, July 17\, 2016\n10:00am to 12:00pm\nGardens Meeting Room with Di ScottWhen it comes to basic care and pruning of fruit trees\, there are many different techniques\, several of which have predictable results. Summer pruning is a great way to increase your fruit and ease winter maintenance. This class will help you to optimize performance from your fruit trees\, according to your own needs and the specific environment in which the trees are growing. The spotlight will primarily be on\, but not limited too\, the summer pruning of fruit tree varieties appropriate to the North Coast climate\, specifically apples\, pears\, and select stone fruits. Learn how time of year and type of pruning cut can greatly influence the success of your fruit trees. We will cover a complete yearâ€™s cycle of tree growth â€“ from the treeâ€™s perspective as well as our own. Visit www.gardenbythesea.org for more information.Workshop Instructor\, Di Scott brings 17 years of coastal orchard experience and a lifetime of horticultural knowledge to this class.\nClass size is limited\; sign up by phoning in your payment at 707-964-4352 ext. 16 or reserve your spot in person at The Garden Store at MCBG.
X-ALT-DESC;FMTTYPE=text/html:<p><span style="font-size:large\;"><strong>Sunday\, July 17\, 2016</strong></span><br /><span style="font-size:large\;"><strong>10:00am to 12:00pm</strong></span><br /><span style="font-size:large\;"><strong>Gardens Meeting Room with Di Scott</strong></span></p><p><span style="font-size:medium\;">When it comes to basic care and pruning of fruit trees\, there are many different techniques\, several of which have predictable results. Summer pruning is a great way to increase your fruit and ease winter maintenance. This class will help you to optimize performance from your fruit trees\, according to your own needs and the specific environment in which the trees are growing. The spotlight will primarily be on\, but not limited too\, the summer pruning of fruit tree varieties appropriate to the North Coast climate\, specifically apples\, pears\, and select stone fruits. Learn how time of year and type of pruning cut can greatly influence the success of your fruit trees. We will cover a complete yearâ€™s cycle of tree growth â€“ from the treeâ€™s perspective as well as our own. Visit <a title="Mendocino Coast Botanical Gardens" href="http://www.gardenbythesea.org/calendar/summertime-fruit-tree-pruning/" target="_blank">www.gardenbythesea.org</a> for more information.</span></p><p><span style="font-size:medium\;"><em>Workshop Instructor\, Di Scott brings 17 years of coastal orchard experience and a lifetime of horticultural knowledge to this class.</em></span></p><p><span style="font-size:medium\;"><em><br /></em></span></p><p><span style="font-size:medium\;">Class size is limited\; sign up by phoning in your payment at 707-964-4352 ext. 16 or reserve your spot in person at <a title="The Garden Store - Facebook page" href="https://www.facebook.com/MCBGGardenStore/" target="_blank">The Garden Store</a> at MCBG.</span></p>
LOCATION:Mendocino Coast Botanical Gardens Fort Bragg
UID:e.2883.968
SEQUENCE:3
DTSTAMP:20260424T210119Z
URL:http://mendocinocoast.smartcms.site/events/details/summertime-fruit-tree-pruning-workshop-07-06-2016-968
END:VEVENT

END:VCALENDAR
