BEGIN:VCALENDAR
VERSION:2.0
PRODID:-//ChamberMaster//Event Calendar 2.0//EN
METHOD:PUBLISH
X-PUBLISHED-TTL:P3D
REFRESH-INTERVAL:P3D
CALSCALE:GREGORIAN
BEGIN:VEVENT
DTSTART:20170627T163000Z
DTEND:20170701T003000Z
X-MICROSOFT-CDO-ALLDAYEVENT:FALSE
SUMMARY:Summer Sale
DESCRIPTION:20% off sale
X-ALT-DESC;FMTTYPE=text/html:20% off sale
LOCATION:Haywire\, Inc. 151 W. Elm Street Fort Bragg
UID:e.2883.1541
SEQUENCE:3
DTSTAMP:20260424T024514Z
URL:http://mendocinocoast.smartcms.site/events/details/summer-sale-1541
END:VEVENT

END:VCALENDAR
