BEGIN:VCALENDAR
VERSION:2.0
PRODID:-//ChamberMaster//Event Calendar 2.0//EN
METHOD:PUBLISH
X-PUBLISHED-TTL:P3D
REFRESH-INTERVAL:P3D
CALSCALE:GREGORIAN
BEGIN:VEVENT
DTSTART:20181102T153000Z
DTEND:20181102T173000Z
X-MICROSOFT-CDO-ALLDAYEVENT:FALSE
SUMMARY:State of the Child
DESCRIPTION:Help FIRST 5 Mendocino celebrate its 20th Anniversary with an Informative Breakfast featuring Champion Awards. Have you considered how the policies in your business affect families? Studies show that businesses who support families have higher productivity\, lower staff turn-over\, and an over-all increased work satisfaction. Come join the conversation and be a part of the change to help your business thrive through supporting families.
X-ALT-DESC;FMTTYPE=text/html:Help FIRST 5 Mendocino celebrate its 20th Anniversary with an Informative Breakfast featuring Champion Awards. Have you considered how the policies in your business affect families? Studies show that businesses who support families have higher productivity\, lower staff turn-over\, and an over-all increased work satisfaction. Come join the conversation and be a part of the change to help your business thrive through supporting families.
LOCATION:TBD
UID:e.2883.10274
SEQUENCE:3
DTSTAMP:20260422T210808Z
URL:http://mendocinocoast.smartcms.site/events/details/state-of-the-child-10274
END:VEVENT

END:VCALENDAR
