BEGIN:VCALENDAR
VERSION:2.0
PRODID:-//ChamberMaster//Event Calendar 2.0//EN
METHOD:PUBLISH
X-PUBLISHED-TTL:P3D
REFRESH-INTERVAL:P3D
CALSCALE:GREGORIAN
BEGIN:VEVENT
DTSTART:20190825T220000Z
DTEND:20190826T020000Z
X-MICROSOFT-CDO-ALLDAYEVENT:FALSE
SUMMARY:Startup Mendocino
DESCRIPTION:Join us for the First Annual Startup Mendocino Gala at the Mendocino College Theater Determine the fate of who wins Startup Mendocino by coming to the Competition Gala! YOU will get to vote on the winning presentation - and determine the fate of which entrepreneur is worthy of taking home the grand prize. Wine\, food\, entertainment and an amazing live presentation of five entrepreneurs vying for a $10\,000 grand prize will make this a must-attend event. Ticket price includes: Family friendly entertainment Wine\, beer\, refreshments and delicious local snacks and desserts *If you wish to drink alcoholic beverages at this event you will be required to show ID Date: Sunday\, August 25\, 2018 Time: 3:00 PM - 7:00 PM Location: Mendocino College Theater - 1000 Hensley Creek Rd\, Ukiah\, CA 95482 Startup Mendocino is Sponsored by: The John and Sandra Mayfield Foundation Adventist Hospital Savings Bank of Mendocino County Economic Development and Financing Foundation North Coast Brewery Mendocino College Harvest Market America's SBDC
X-ALT-DESC;FMTTYPE=text/html:Join us for the First Annual Startup Mendocino Gala at the Mendocino College Theater Determine the fate of who wins Startup Mendocino by coming to the Competition Gala! YOU will get to vote on the winning presentation - and determine the fate of which entrepreneur is worthy of taking home the grand prize. Wine\, food\, entertainment and an amazing live presentation of five entrepreneurs vying for a $10\,000 grand prize will make this a must-attend event. Ticket price includes: Family friendly entertainment Wine\, beer\, refreshments and delicious local snacks and desserts *If you wish to drink alcoholic beverages at this event you will be required to show ID Date: Sunday\, August 25\, 2018 Time: 3:00 PM - 7:00 PM Location: Mendocino College Theater - 1000 Hensley Creek Rd\, Ukiah\, CA 95482 Startup Mendocino is Sponsored by: The John and Sandra Mayfield Foundation Adventist Hospital Savings Bank of Mendocino County Economic Development and Financing Foundation North Coast Brewery Mendocino College Harvest Market America&#39\;s SBDC
LOCATION:Mendocino College Theater\, Ukiah
UID:e.2883.11758
SEQUENCE:3
DTSTAMP:20260422T062753Z
URL:http://mendocinocoast.smartcms.site/events/details/startup-mendocino-11758
END:VEVENT

END:VCALENDAR
