BEGIN:VCALENDAR
VERSION:2.0
PRODID:-//ChamberMaster//Event Calendar 2.0//EN
METHOD:PUBLISH
X-PUBLISHED-TTL:P3D
REFRESH-INTERVAL:P3D
CALSCALE:GREGORIAN
BEGIN:VEVENT
DTSTART:20190317T003000Z
DTEND:20190317T020000Z
X-MICROSOFT-CDO-ALLDAYEVENT:FALSE
SUMMARY:St patricks day celebration
DESCRIPTION:Celebrate with us St Patrick's Day. Sal's Bistro inside the Redwood Coast Senior Center invites you to Dinner\, March 16 from 5:30 -7:00 pm. Serving Corned Beef and Cabbage.Carrots and potatoes\,creamy Broccoli soup. New York Cheese Cake with creme De Menthe Drizzle! To raise money for the Center's Computer training room.
X-ALT-DESC;FMTTYPE=text/html:Celebrate with us St Patrick&#39\;s Day. Sal&#39\;s Bistro inside the Redwood Coast Senior Center invites you to Dinner\, March 16 from 5:30 -7:00 pm. Serving Corned Beef and Cabbage.Carrots and potatoes\,creamy Broccoli soup. New York Cheese Cake with creme De Menthe Drizzle! To raise money for the Center&#39\;s Computer training room.
LOCATION:490 N Harold St Fort Bragg
UID:e.2883.11327
SEQUENCE:3
DTSTAMP:20260422T143620Z
URL:http://mendocinocoast.smartcms.site/events/details/st-patricks-day-celebration-11327
END:VEVENT

END:VCALENDAR
