BEGIN:VCALENDAR
VERSION:2.0
PRODID:-//ChamberMaster//Event Calendar 2.0//EN
METHOD:PUBLISH
X-PUBLISHED-TTL:P3D
REFRESH-INTERVAL:P3D
CALSCALE:GREGORIAN
BEGIN:VEVENT
DTSTART:20190317T003000Z
DTEND:20190317T020000Z
X-MICROSOFT-CDO-ALLDAYEVENT:FALSE
SUMMARY:St Patricks Day celebration
DESCRIPTION:To raise money for the centers computer training room. Sal's' Bistro inside senior center is serving st patrick's day dinner. Dinner is Entree Corned beef\,cabbage \,carrots and potatoes. along with creamy broccoli soup. dessert is New York Cheese cake with creme De Menthe drizzel!! Complimentry drink of either Beer or Wine. Additional drinks available
X-ALT-DESC;FMTTYPE=text/html:To raise money for the centers computer training room. Sal&#39\;s&#39\; Bistro inside senior center is serving st patrick&#39\;s day dinner. Dinner is Entree Corned beef\,cabbage \,carrots and potatoes. along with creamy broccoli soup. dessert is New York Cheese cake with creme De Menthe drizzel!! Complimentry drink of either Beer or Wine. Additional drinks available
LOCATION:Redwood Coast Senior Center
UID:e.2883.11331
SEQUENCE:3
DTSTAMP:20260422T160756Z
URL:http://mendocinocoast.smartcms.site/events/details/st-patricks-day-celebration-03-16-2019-11331
END:VEVENT

END:VCALENDAR
