BEGIN:VCALENDAR
VERSION:2.0
PRODID:-//ChamberMaster//Event Calendar 2.0//EN
METHOD:PUBLISH
X-PUBLISHED-TTL:P3D
REFRESH-INTERVAL:P3D
CALSCALE:GREGORIAN
BEGIN:VEVENT
DTSTART:20180317T210000Z
DTEND:20180317T220000Z
X-MICROSOFT-CDO-ALLDAYEVENT:FALSE
SUMMARY:St. Patrick's Day Celtic Music Concert
DESCRIPTION:Special St. Patrick's Day Celtic Music Concert and Quilt Raffle featuring Lisa Lynne and Aryeh Frankfurter. The show features two Celtic harps\, the rare\, Swedish Nyckelharpa\, Cittern and more. Lisa and Aryeh gift us with an eclectic blend of music and tales from their adventures as modern day troubadours.
X-ALT-DESC;FMTTYPE=text/html:Special St. Patrick&#39\;s Day Celtic Music Concert and Quilt Raffle featuring Lisa Lynne and Aryeh Frankfurter. The show features two Celtic harps\, the rare\, Swedish Nyckelharpa\, Cittern and more. Lisa and Aryeh gift us with an eclectic blend of music and tales from their adventures as modern day troubadours.
LOCATION:Fort Bragg Library
UID:e.2883.5594
SEQUENCE:3
DTSTAMP:20260423T110126Z
URL:http://mendocinocoast.smartcms.site/events/details/st-patrick-s-day-celtic-music-concert-5594
END:VEVENT

END:VCALENDAR
