BEGIN:VCALENDAR
VERSION:2.0
PRODID:-//ChamberMaster//Event Calendar 2.0//EN
METHOD:PUBLISH
X-PUBLISHED-TTL:P3D
REFRESH-INTERVAL:P3D
CALSCALE:GREGORIAN
BEGIN:VEVENT
DTSTART:20190407T000000Z
DTEND:20190407T020000Z
X-MICROSOFT-CDO-ALLDAYEVENT:FALSE
SUMMARY:Spring Symphony Dinner
DESCRIPTION:Spring Symphony Dinner April6\,2019. Dinner served from 5pm-7pm.Sal's Bistro Redwood Coast Senior Center 490 N Harold St.fort Bragg. Entree: BBQ Pork Ribs or Fresh Stuffed Sole with Baked Potato\,Green beans\,Dinner Salad and a Complimentary Beverage.Dessert\, New York Cheese Cake with Strawberry drizzle. Advance tickets $25.00 At the Door $30.00 additional drinks available $5.00 Call 964-0443 for more information
X-ALT-DESC;FMTTYPE=text/html:Spring Symphony Dinner April6\,2019. Dinner served from 5pm-7pm.Sal&#39\;s Bistro Redwood Coast Senior Center 490 N Harold St.fort Bragg. Entree: BBQ Pork Ribs or Fresh Stuffed Sole with Baked Potato\,Green beans\,Dinner Salad and a Complimentary Beverage.Dessert\, New York Cheese Cake with Strawberry drizzle. Advance tickets $25.00 At the Door $30.00 additional drinks available $5.00 Call 964-0443 for more information
LOCATION:Redwood Coast Senior Center 490N Harold St Fort Bragg ca
UID:e.2883.11376
SEQUENCE:3
DTSTAMP:20260422T125014Z
URL:http://mendocinocoast.smartcms.site/events/details/spring-symphony-dinner-11376
END:VEVENT

END:VCALENDAR
