BEGIN:VCALENDAR
VERSION:2.0
PRODID:-//ChamberMaster//Event Calendar 2.0//EN
METHOD:PUBLISH
X-PUBLISHED-TTL:P3D
REFRESH-INTERVAL:P3D
CALSCALE:GREGORIAN
BEGIN:VEVENT
DTSTART;VALUE=DATE:20170217
DTEND;VALUE=DATE:20170218
TRANSP:TRANSPARENT
X-MICROSOFT-CDO-ALLDAYEVENT:TRUE
SUMMARY:Spring Cleaning Clearance Sale
DESCRIPTION:Friday\, March 3 through Friday\, March 10\, 2017\nfrom 9:00am to 5:00pm \nat The Garden Store & Nursery on the PlazaWarm weather means a busy gardenâ€”what better time for us to straighten up and prepare for the springtime hustle-and-bustle?The Gardensâ€™ Spring Cleaning Sale will have clearance prices on select items fromÂ The Garden Store andÂ Nursery on the Plaza! Snag some fresh home decor\, fashion accessories\, gardening books\, Easter decorations\, and more from The Garden Store. Stock up on heavily discounted plants from Nursery on the Plaza including large conifers\, dahlia tubers\, magnolias\, native irises\, shrubs\, and assorted perennials.Be sure to take advantage of the low prices during the sale. Remember\, there is never an admission fee to visit the Nursery\, Store\, orÂ CafÃ© (re-opening for the season on April 13).Follow us on Facebook for the latest and greatest:The Garden StoreNursery on the PlazaProceeds from the sale support our organization! Mendocino Coast Botanical Gardens is a unique botanical treasure that can only be maintained\, strengthened\, and shared through the philanthropic support of our donors\, members\, community\, and volunteers.
X-ALT-DESC;FMTTYPE=text/html:<h3><span style="font-size:medium\;">Friday\, March 3 through Friday\, March 10\, 2017</span><br /><span style="font-size:medium\;">from 9:00am to 5:00pm </span><br /><span style="font-size:medium\;">at The Garden Store &amp\; Nursery on the Plaza</span></h3><h4><span style="font-size:medium\;">Warm weather means a busy gardenâ€”what better time for us to straighten up and prepare for the springtime hustle-and-bustle?</span></h4><p><span style="font-size:medium\;">The Gardensâ€™ Spring Cleaning Sale will have clearance prices on select items fromÂ <a href="https://www.facebook.com/MCBGGardenStore/" target="_blank">The Garden Store</a> andÂ <a href="https://www.facebook.com/MCBGNurseryOnThePlaza/" target="_blank">Nursery on the Plaza</a>! Snag some fresh home decor\, fashion accessories\, gardening books\, Easter decorations\, and more from The Garden Store. Stock up on heavily discounted plants from Nursery on the Plaza including large conifers\, dahlia tubers\, magnolias\, native irises\, shrubs\, and assorted perennials.</span></p><p><span style="font-size:medium\;">Be sure to take advantage of the low prices during the sale. Remember\, there is never an admission fee to visit the Nursery\, Store\, orÂ <a href="http://www.gardenbythesea.org/visit/rhodys-garden-cafe/" target="_blank">CafÃ© (re-opening for the season on April 13)</a>.</span></p><p><span style="font-size:medium\;"><em><strong>Follow us on Facebook for the latest and greatest:</strong></em></span></p><ul><li><span style="font-size:medium\;"><strong><a href="https://www.facebook.com/MCBGGardenStore/" target="_blank">The Garden Store</a></strong></span></li><li><span style="font-size:medium\;"><strong><a href="https://www.facebook.com/MCBGNurseryOnThePlaza/" target="_blank">Nursery on the Plaza</a></strong></span></li></ul><hr /><p><span style="font-size:medium\;"><strong><em>Proceeds from the sale support our organization! </em></strong><em>Mendocino Coast Botanical Gardens is a unique botanical treasure that can only be maintained\, strengthened\, and shared through the philanthropic support of our donors\, members\, community\, and volunteers.</em></span></p>
LOCATION:Mendocino Coast Botanical Gardens Fort Bragg
UID:e.2883.1126
SEQUENCE:3
DTSTAMP:20260424T093554Z
URL:http://mendocinocoast.smartcms.site/events/details/spring-cleaning-clearance-sale-02-17-2017-1126
END:VEVENT

END:VCALENDAR
