BEGIN:VCALENDAR
VERSION:2.0
PRODID:-//ChamberMaster//Event Calendar 2.0//EN
METHOD:PUBLISH
X-PUBLISHED-TTL:P3D
REFRESH-INTERVAL:P3D
CALSCALE:GREGORIAN
BEGIN:VEVENT
DTSTART:20190227T020000Z
DTEND:20190227T033000Z
X-MICROSOFT-CDO-ALLDAYEVENT:FALSE
SUMMARY:Spotlight on Science: Local Seaweeds and Kelps
DESCRIPTION:Larry Knowles\, owner of Rising Tide Sea Vegetables\, and author/artist Josie Iselin will talk about the kelps of the local Mendocino Coast and in particular the threatened kelp forest. They are both passionate advocates for the marine algae and kelp of our near shore waters and will thrill you will stories from their experiences and work in the intertidal ecosystems of our area.
X-ALT-DESC;FMTTYPE=text/html:Larry Knowles\, owner of Rising Tide Sea Vegetables\, and author/artist Josie Iselin will talk about the kelps of the local Mendocino Coast and in particular the threatened kelp forest. They are both passionate advocates for the marine algae and kelp of our near shore waters and will thrill you will stories from their experiences and work in the intertidal ecosystems of our area.
LOCATION:Downtown Noyo Center for Marine Science 338 Main Street Fort Bragg\, CA 95437
UID:e.2883.11261
SEQUENCE:3
DTSTAMP:20260422T160911Z
URL:http://mendocinocoast.smartcms.site/events/details/spotlight-on-science-local-seaweeds-and-kelps-11261
END:VEVENT

END:VCALENDAR
