BEGIN:VCALENDAR
VERSION:2.0
PRODID:-//ChamberMaster//Event Calendar 2.0//EN
METHOD:PUBLISH
X-PUBLISHED-TTL:P3D
REFRESH-INTERVAL:P3D
CALSCALE:GREGORIAN
BEGIN:VEVENT
DTSTART:20181027T180000Z
DTEND:20181027T193000Z
X-MICROSOFT-CDO-ALLDAYEVENT:FALSE
SUMMARY:Spooktacular Fall Carnival
DESCRIPTION:Sneaky Snacks! Ghoulish Games! Face painting! Costume Contest! Join us for the fun at our 4th Annual Spooktacular Fall Carnival! All ages are welcome!
X-ALT-DESC;FMTTYPE=text/html:Sneaky Snacks! Ghoulish Games! Face painting! Costume Contest! Join us for the fun at our 4th Annual Spooktacular Fall Carnival! All ages are welcome!
LOCATION:Fort Bragg Library 499 E Laurel St Fort Bragg\, CA
UID:e.2883.10292
SEQUENCE:3
DTSTAMP:20260422T225229Z
URL:http://mendocinocoast.smartcms.site/events/details/spooktacular-fall-carnival-10292
END:VEVENT

END:VCALENDAR
