BEGIN:VCALENDAR
VERSION:2.0
PRODID:-//ChamberMaster//Event Calendar 2.0//EN
METHOD:PUBLISH
X-PUBLISHED-TTL:P3D
REFRESH-INTERVAL:P3D
CALSCALE:GREGORIAN
BEGIN:VEVENT
DTSTART:20191026T180000Z
DTEND:20191026T193000Z
X-MICROSOFT-CDO-ALLDAYEVENT:FALSE
SUMMARY:Spooktacular Fall Carnival
DESCRIPTION:Join us for our 5th Annual Spooktacular Fall Carnival at Fort Bragg Library! At the carnival there will be games and fun\, treats and fun\, face-painting and fun\, costume contests and fun. The carnival is Saturday\, October 26\, 2019\, 11-12:30. Hope to see you there!
X-ALT-DESC;FMTTYPE=text/html:Join us for our 5th Annual Spooktacular Fall Carnival at Fort Bragg Library! At the carnival there will be games and fun\, treats and fun\, face-painting and fun\, costume contests and fun. The carnival is Saturday\, October 26\, 2019\, 11-12:30. Hope to see you there!
LOCATION:Fort Bragg Library 499 Laurel St Fort Bragg\, CA 95437
UID:e.2883.12454
SEQUENCE:3
DTSTAMP:20260422T024636Z
URL:http://mendocinocoast.smartcms.site/events/details/spooktacular-fall-carnival-10-26-2019-12454
END:VEVENT

END:VCALENDAR
