BEGIN:VCALENDAR
VERSION:2.0
PRODID:-//ChamberMaster//Event Calendar 2.0//EN
METHOD:PUBLISH
X-PUBLISHED-TTL:P3D
REFRESH-INTERVAL:P3D
CALSCALE:GREGORIAN
BEGIN:VEVENT
DTSTART:20200124T190000Z
DTEND:20200518T190000Z
X-MICROSOFT-CDO-ALLDAYEVENT:FALSE
SUMMARY:South of Main
DESCRIPTION:2020 WINTER / SPRING EXHIBIT: SOUTH OF MAIN\, OPENS JANUARY 24 THROUGH MAY 18\, 2020. Our next show will use historical photos\, maps and artifacts to tell the story of that part of downtown Mendocino located on the south side of Main Street. Once a coastal prairie\, then a bustling rail and lumberyard ringed by stores and houses\, it is now devoid of buildings and known as the Mendocino Headlands State Park. The exhibit will present the history of this important Mendocino destination and answer the often-asked question   What was there before? We are coordinating this exhibit with the Ford House Visitor's Center\, which has walking tours of the Headlands that emphasize the pre -history and ecology of the area. During the duration of the four-month exhibit\, we are considering doing special walking tours that would focus on the buildings\, the businesses\, and the people who lived and worked there.
X-ALT-DESC;FMTTYPE=text/html:2020 WINTER / SPRING EXHIBIT: SOUTH OF MAIN\, OPENS JANUARY 24 THROUGH MAY 18\, 2020. Our next show will use historical photos\, maps and artifacts to tell the story of that part of downtown Mendocino located on the south side of Main Street. Once a coastal prairie\, then a bustling rail and lumberyard ringed by stores and houses\, it is now devoid of buildings and known as the Mendocino Headlands State Park. The exhibit will present the history of this important Mendocino destination and answer the often-asked question &ndash\; What was there before? We are coordinating this exhibit with the Ford House Visitor&rsquo\;s Center\, which has walking tours of the Headlands that emphasize the pre -history and ecology of the area. During the duration of the four-month exhibit\, we are considering doing special walking tours that would focus on the buildings\, the businesses\, and the people who lived and worked there.
LOCATION:Kelley House Museum 45007 Albion St. Mendocino\, CA 95460
UID:e.2883.12633
SEQUENCE:3
DTSTAMP:20260421T154142Z
URL:http://mendocinocoast.smartcms.site/events/details/south-of-main-12633
END:VEVENT

END:VCALENDAR
