BEGIN:VCALENDAR
VERSION:2.0
PRODID:-//ChamberMaster//Event Calendar 2.0//EN
METHOD:PUBLISH
X-PUBLISHED-TTL:P3D
REFRESH-INTERVAL:P3D
CALSCALE:GREGORIAN
BEGIN:VEVENT
DTSTART:20171022T000000Z
DTEND:20171022T020000Z
X-MICROSOFT-CDO-ALLDAYEVENT:FALSE
SUMMARY:Soup & Chili Cook-Off
DESCRIPTION:The 6th Annual Soup & Chili Cook Off\, a fundraiser for the Fort Bragg Food Bank will be held Saturday October 21\, 2017 at Portuguese Hall 5-7 pm. Stay tuned for more details!
X-ALT-DESC;FMTTYPE=text/html:<span style="font-family: Verdana\, Arial\; font-size: 11px\;">The 6th Annual Soup &amp\; Chili Cook Off\, a fundraiser for the Fort Bragg Food Bank will be held Saturday October 21\, 2017 at Portuguese Hall 5-7 pm. Stay tuned for more details!</span>
LOCATION:Portuguese Hall in Fort Bragg
UID:e.2883.1269
SEQUENCE:3
DTSTAMP:20260423T201334Z
URL:http://mendocinocoast.smartcms.site/events/details/soup-chili-cook-off-1269
END:VEVENT

END:VCALENDAR
