BEGIN:VCALENDAR
VERSION:2.0
PRODID:-//ChamberMaster//Event Calendar 2.0//EN
METHOD:PUBLISH
X-PUBLISHED-TTL:P3D
REFRESH-INTERVAL:P3D
CALSCALE:GREGORIAN
BEGIN:VEVENT
DTSTART:20170202T010000Z
DTEND:20170202T030000Z
X-MICROSOFT-CDO-ALLDAYEVENT:FALSE
SUMMARY:Soup & Chili Cook-Off
DESCRIPTION:The 6th Annual Soup & Chili Cook Off\, a fundraiser for the Fort Bragg Food Bank will be held Saturday October 21\, 2017 at Portuguese Hall 5-7 pm. Stay tuned for more details!
X-ALT-DESC;FMTTYPE=text/html:<p>The 6th Annual Soup &amp\; Chili Cook Off\, a fundraiser for the Fort Bragg Food Bank will be held Saturday October 21\, 2017 at Portuguese Hall 5-7 pm. Stay tuned for more details!</p>
LOCATION:Portuguese Hall Fort Bragg
UID:e.2883.1112
SEQUENCE:3
DTSTAMP:20260424T093554Z
URL:http://mendocinocoast.smartcms.site/events/details/soup-chili-cook-off-02-01-2017-1112
END:VEVENT

END:VCALENDAR
