BEGIN:VCALENDAR
VERSION:2.0
PRODID:-//ChamberMaster//Event Calendar 2.0//EN
METHOD:PUBLISH
X-PUBLISHED-TTL:P3D
REFRESH-INTERVAL:P3D
CALSCALE:GREGORIAN
BEGIN:VEVENT
DTSTART:20191123T020000Z
DTEND:20191123T040000Z
X-MICROSOFT-CDO-ALLDAYEVENT:FALSE
SUMMARY:Soup and Salad Library Expansion Fundraiser
DESCRIPTION:Soup's On! Friday\, November 22\, 2019 @ 6-8 pm Come help the Friends of the Fort Bragg Library pay for a new library by attending a Soup & Salad Dinner at Masonic Hall\, 428 N. Main St.\, Fort Bragg. Along with a smorgasbord of delicious soups there will be salad\, French bread and a dessert. The price is $15 per person with all proceeds benefiting the Fort Bragg Library Expansion Project. Soup and Salad Dinner is provided in full by the Masons of Fort Bragg\, CA.
X-ALT-DESC;FMTTYPE=text/html:Soup&rsquo\;s On! Friday\, November 22\, 2019 @ 6-8 pm Come help the Friends of the Fort Bragg Library pay for a new library by attending a Soup &amp\; Salad Dinner at Masonic Hall\, 428 N. Main St.\, Fort Bragg. Along with a smorgasbord of delicious soups there will be salad\, French bread and a dessert. The price is $15 per person with all proceeds benefiting the Fort Bragg Library Expansion Project. Soup and Salad Dinner is provided in full by the Masons of Fort Bragg\, CA.
LOCATION:Masonic Hall 428 N Main St Fort Bragg\, CA 95437
UID:e.2883.12467
SEQUENCE:3
DTSTAMP:20260422T011506Z
URL:http://mendocinocoast.smartcms.site/events/details/soup-and-salad-library-expansion-fundraiser-12467
END:VEVENT

END:VCALENDAR
