BEGIN:VCALENDAR
VERSION:2.0
PRODID:-//ChamberMaster//Event Calendar 2.0//EN
METHOD:PUBLISH
X-PUBLISHED-TTL:P3D
REFRESH-INTERVAL:P3D
CALSCALE:GREGORIAN
BEGIN:VEVENT
DTSTART:20181201T220000Z
DTEND:20181201T230000Z
X-MICROSOFT-CDO-ALLDAYEVENT:FALSE
SUMMARY:Soul of the Sea\; a talk with author David G Sime
DESCRIPTION:"The old sea dog "Captain Jack" returns to Noyo Harbor on the California coast for one last time and takes up residence on an old steam schooner\, the "San Juan"\, on which he was first mate. With the help of friends\, a dog and a young boy he relives the vivid memories of a life spent on the open sea. Unable to forget memories of his past\, he wonders can an old sailor find a home in a future that has passed him by?" Join us for a reading and discussion Saturday\, December 1\, 2018\, 2-3 pm
X-ALT-DESC;FMTTYPE=text/html:&quot\;The old sea dog &ldquo\;Captain Jack&rdquo\; returns to Noyo Harbor on the California coast for one last time and takes up residence on an old steam schooner\, the &ldquo\;San Juan&rdquo\;\, on which he was first mate. With the help of friends\, a dog and a young boy he relives the vivid memories of a life spent on the open sea. Unable to forget memories of his past\, he wonders can an old sailor find a home in a future that has passed him by?&quot\; Join us for a reading and discussion Saturday\, December 1\, 2018\, 2-3 pm
LOCATION:Fort Bragg Library 499 E Laurel Fort Bragg\, CA 95437
UID:e.2883.10385
SEQUENCE:3
DTSTAMP:20260422T210841Z
URL:http://mendocinocoast.smartcms.site/events/details/soul-of-the-sea-a-talk-with-author-david-g-sime-10385
END:VEVENT

END:VCALENDAR
