BEGIN:VCALENDAR
VERSION:2.0
PRODID:-//ChamberMaster//Event Calendar 2.0//EN
METHOD:PUBLISH
X-PUBLISHED-TTL:P3D
REFRESH-INTERVAL:P3D
CALSCALE:GREGORIAN
BEGIN:VEVENT
DTSTART;VALUE=DATE:20160915
DTEND;VALUE=DATE:20160916
TRANSP:TRANSPARENT
X-MICROSOFT-CDO-ALLDAYEVENT:TRUE
SUMMARY:Soroptimist International of Mendocino Meeting
DESCRIPTION:Soroptimist International of Mendocino whose mission is to improve the lives of women and girls\, meets the first and third Wednesday of every month. Â Dinner is at 5:30 pm and the meeting begins promplty at 6:00 pm. Â Meeting location varies. Â Please call Linda at 937-1891 for directions. Â New members welcome.
X-ALT-DESC;FMTTYPE=text/html:<p>Soroptimist International of Mendocino whose mission is to improve the lives of women and girls\, meets the first and third Wednesday of every month. Â Dinner is at 5:30 pm and the meeting begins promplty at 6:00 pm. Â Meeting location varies. Â Please call Linda at 937-1891 for directions. Â New members welcome.</p>
LOCATION:Mendocino
UID:e.2883.1019
SEQUENCE:3
DTSTAMP:20260424T175819Z
URL:http://mendocinocoast.smartcms.site/events/details/soroptimist-international-of-mendocino-meeting-09-15-2016-1019
END:VEVENT

END:VCALENDAR
