BEGIN:VCALENDAR
VERSION:2.0
PRODID:-//ChamberMaster//Event Calendar 2.0//EN
METHOD:PUBLISH
X-PUBLISHED-TTL:P3D
REFRESH-INTERVAL:P3D
CALSCALE:GREGORIAN
BEGIN:VEVENT
DTSTART:20171024T140000Z
DTEND:20171024T150000Z
X-MICROSOFT-CDO-ALLDAYEVENT:FALSE
SUMMARY:Soroptimist International Noyo Sunrise Meeting
DESCRIPTION:We are a small service club and we welcome guests and potential new members. Soroptimist is a coined term meaning "Best for Women". Our broader goal is to improve the lives of women and children. We do this by "fun"Raising while fund-raising\, whether it is sharing our experiences at meetings\, having guest speakers\, or working to raise money for scholarships and single head of households females that are in a career training.  Some of our projects are selling hand-made personailzed Easter Eggs\, Fort Bragg Quilt Show\, Rummage sale\, help with Youth Forum\, Roses for Mammograms for Breast Cancer Prevention awareness and our newest Project is the Quilt Trail . Come to a meeting we'd love to meet you! We meet every Tuesday at 7:00 am at the Senior Center (except for the third Thursday of every month). We also take off the month of December.
X-ALT-DESC;FMTTYPE=text/html:<span style="font-family: Verdana\, Arial\; font-size: 11px\;">We are a small service club and we welcome guests and potential new members. Soroptimist is a coined term meaning &quot\;Best for Women&quot\;. Our broader goal is to improve the lives of women and children. We do this by &quot\;fun&quot\;Raising while fund-raising\, whether it is sharing our experiences at meetings\, having guest speakers\, or working to raise money for scholarships and single head of households females that are in a career training.&nbsp\; Some of our projects are selling hand-made personailzed Easter Eggs\, Fort Bragg Quilt Show\, Rummage sale\, help with Youth Forum\, Roses for Mammograms for Breast Cancer Prevention awareness and our newest Project is the Quilt Trail . Come to a meeting we&#39\;d love to meet you! We meet every Tuesday at 7:00 am at the Senior Center (except for the third Thursday of every month). We also take off the month of December.</span>
LOCATION:Senior Center on Harold St.
UID:e.2883.1259
SEQUENCE:3
DTSTAMP:20260423T202307Z
URL:http://mendocinocoast.smartcms.site/events/details/soroptimist-international-noyo-sunrise-meeting-10-24-2017-1259
END:VEVENT

END:VCALENDAR
