BEGIN:VCALENDAR
VERSION:2.0
PRODID:-//ChamberMaster//Event Calendar 2.0//EN
METHOD:PUBLISH
X-PUBLISHED-TTL:P3D
REFRESH-INTERVAL:P3D
CALSCALE:GREGORIAN
BEGIN:VEVENT
DTSTART:20200915T070000Z
DTEND:20200915T070000Z
X-MICROSOFT-CDO-ALLDAYEVENT:FALSE
SUMMARY:Signs of Life - Kathy Carl\, Karen Fenley and Carolyn Schneider
DESCRIPTION:
X-ALT-DESC;FMTTYPE=text/html:
LOCATION:In September\, Partners Gallery is presenting its first virtual show since leaving its physical space on Franklin St in Fort Bragg for a new home and website in virtual space. "Signs of Life" features the work of printmaker Kathy Carl exploring natural imagery through solarplate\, as well as the mixed media collages and paintings of Karen Fenley\, and Carolyn Schneider's drawings and paintings depicting the humor and the horror of it all. Beginning September 4thcheck out the gallery website to see this show along with the work of the gallery's twelve members. The next virtual show opens October 2nd. www.partnersgallery.com
UID:e.2883.12937
SEQUENCE:3
DTSTAMP:20260421T080756Z
URL:http://mendocinocoast.smartcms.site/events/details/signs-of-life-kathy-carl-karen-fenley-and-carolyn-schneider-09-15-2020-12937
END:VEVENT

END:VCALENDAR
