BEGIN:VCALENDAR
VERSION:2.0
PRODID:-//ChamberMaster//Event Calendar 2.0//EN
METHOD:PUBLISH
X-PUBLISHED-TTL:P3D
REFRESH-INTERVAL:P3D
CALSCALE:GREGORIAN
BEGIN:VEVENT
DTSTART:20180218T010000Z
DTEND:20180218T040000Z
X-MICROSOFT-CDO-ALLDAYEVENT:FALSE
SUMMARY:Short Films Program: The Best-Laid Plans\, 5 pm & 8 pm
DESCRIPTION:The Mendocino Film Festival presents two encore screenings of the 2017 Short Films Program: The Best-Laid Plans\, Saturday\, February 17\, 2018\, at the Matheson Performing Arts Center in Mendocino. The program will feature a Q&A with filmmakers after the screening. \n\nLife doesn't always go as planned. From the surprising to the serendipitous\, a variety of sometimes serious\, sometimes comical developments throw a wrench in the works for our protagonists\, who find themselves forced to improvise solutions for problems ranging from impossible birthday requests to Sisyphean treks to dead-end jobs. The heroes and anti-heroes of our Short Films Program may not always succeed\, but they'll make you laugh and win your hearts all the same. This hilarious and heartwarming program features three 2017 Academy Award nominees and one Academy Award winner. Curated by Ann Walker and Kira Wojack. 78 min.
X-ALT-DESC;FMTTYPE=text/html:<p><span style="background-color:transparent\; color:rgb(0\, 0\, 0)\; font-family:times new roman\; font-size:12pt">The Mendocino Film Festival presents two encore screenings of the </span><em>2017 Short Films Program: The Best-Laid Plans</em><span style="background-color:transparent\; color:rgb(0\, 0\, 0)\; font-family:times new roman\; font-size:12pt">\, Saturday\, February 17\, 2018\, at the Matheson Performing Arts Center in Mendocino. The program will feature a Q&amp\;A with filmmakers after the screening</span><em>.</em><font color="#000000" face="times new roman"><span style="font-size:16px">&nbsp\;</span></font></p>\n\n<p><span style="background-color:transparent\; color:rgb(0\, 0\, 0)\; font-family:times new roman\; font-size:12pt">Life doesn&#39\;t always go as planned. From the surprising to the serendipitous\, a variety of sometimes serious\, sometimes comical developments throw a wrench in the works for our protagonists\, who find themselves forced to improvise solutions for problems ranging from impossible birthday requests to Sisyphean treks to dead-end jobs. The heroes and anti-heroes of our </span><em>Short Films Program</em><span style="background-color:transparent\; color:rgb(0\, 0\, 0)\; font-family:times new roman\; font-size:12pt"> may not always succeed\, but they&#39\;ll make you laugh and win your hearts all the same. This hilarious and heartwarming program features three 2017 Academy Award nominees and one Academy Award winner. Curated by Ann Walker and Kira Wojack. 78 min. </span></p>\n\n<div>&nbsp\;</div>\n
LOCATION:Matheson Performing Arts Center 45096 Cahto St. Mendocino\, CA 95460
UID:e.2883.5520
SEQUENCE:3
DTSTAMP:20260423T121940Z
URL:http://mendocinocoast.smartcms.site/events/details/short-films-program-the-best-laid-plans-5-pm-8-pm-5520
END:VEVENT

END:VCALENDAR
