BEGIN:VCALENDAR
VERSION:2.0
PRODID:-//ChamberMaster//Event Calendar 2.0//EN
METHOD:PUBLISH
X-PUBLISHED-TTL:P3D
REFRESH-INTERVAL:P3D
CALSCALE:GREGORIAN
BEGIN:VEVENT
DTSTART:20180304T220000Z
DTEND:20180305T000000Z
X-MICROSOFT-CDO-ALLDAYEVENT:FALSE
SUMMARY:Shore Stories Fort Bragg
DESCRIPTION:As the Trump administration announced plans to open nearly all U.S. waters to offshore drilling\, people across the country are standing up. This plan opens the floodgates to dirty and dangerous offshore drilling\, threatening coastal economies that rely on clean and healthy oceans. This radical offshore drilling free-for-all is a clear example of politics over people\, ignoring widespread local and state opposition. Join us for Shore Stories\, six short films that highlight the grassroots resistance taking place across the US\, as well as stories from past oil and gas exploration   including the BP Deepwater Horizon disaster. After the films we'll discuss the proposal and how you can get involved in resisting these disastrous plans. Join us to stand together to protect the coast\, and learn how we can keep up the fight to say NO to offshore drilling!
X-ALT-DESC;FMTTYPE=text/html:As the Trump administration announced plans to open nearly all U.S. waters to offshore drilling\, people across the country are standing up. This plan opens the floodgates to dirty and dangerous offshore drilling\, threatening coastal economies that rely on clean and healthy oceans. This radical offshore drilling free-for-all is a clear example of politics over people\, ignoring widespread local and state opposition. Join us for Shore Stories\, six short films that highlight the grassroots resistance taking place across the US\, as well as stories from past oil and gas exploration &ndash\; including the BP Deepwater Horizon disaster. After the films we&rsquo\;ll discuss the proposal and how you can get involved in resisting these disastrous plans. Join us to stand together to protect the coast\, and learn how we can keep up the fight to say NO to offshore drilling!
LOCATION:North Coast Brewing Co. Taproom & Grill Sequoia Room 444 North Main St Fort Bragg\, CA 95437
UID:e.2883.5537
SEQUENCE:3
DTSTAMP:20260423T105245Z
URL:http://mendocinocoast.smartcms.site/events/details/shore-stories-fort-bragg-5537
END:VEVENT

END:VCALENDAR
