BEGIN:VCALENDAR
VERSION:2.0
PRODID:-//ChamberMaster//Event Calendar 2.0//EN
METHOD:PUBLISH
X-PUBLISHED-TTL:P3D
REFRESH-INTERVAL:P3D
CALSCALE:GREGORIAN
BEGIN:VEVENT
DTSTART:20171125T170000Z
DTEND:20171126T020000Z
X-MICROSOFT-CDO-ALLDAYEVENT:FALSE
SUMMARY:Shop Small Saturday!
DESCRIPTION:This Nov 25th\, we want to share Small Business Saturday with you! It's a holiday shopping tradition that celebrates small businesses like ours. And it wouldn't be a celebration without customers like you joining us.\n\n\n\nCome to our Welcome Center at Town Hall in Fort Bragg or Mendosa's in Mendocino starting at 9am to get your free map and shopping bags and enjoy some yummy snacks.  There will be drawings throughout the day for awesome prizes!\n\n\n\nSo mark your calendars for Nov 25th the Saturday after Thanksgiving and get ready to Shop Small with us.
X-ALT-DESC;FMTTYPE=text/html:<span style="color: rgb(0\, 0\, 0)\; font-family: Helvetica\; font-size: 14px\;">This Nov 25th\, we want to share Small Business Saturday with you! It&#39\;s a holiday shopping tradition that celebrates small businesses like ours. And it wouldn&#39\;t be a celebration without customers like you joining us.</span><br style="color: rgb(0\, 0\, 0)\; font-family: Helvetica\; font-size: 14px\;" />\n<br style="color: rgb(0\, 0\, 0)\; font-family: Helvetica\; font-size: 14px\;" />\n<span style="color: rgb(0\, 0\, 0)\; font-family: Helvetica\; font-size: 14px\;">Come to our Welcome Center at Town Hall in Fort Bragg or Mendosa&rsquo\;s in Mendocino starting at 9am to get your free map and shopping bags and enjoy some yummy snacks. &nbsp\;There will be drawings throughout the day for awesome prizes!</span><br style="color: rgb(0\, 0\, 0)\; font-family: Helvetica\; font-size: 14px\;" />\n<br style="color: rgb(0\, 0\, 0)\; font-family: Helvetica\; font-size: 14px\;" />\n<span style="color: rgb(0\, 0\, 0)\; font-family: Helvetica\; font-size: 14px\;">So mark your calendars for Nov 25th the Saturday after Thanksgiving and get ready to Shop Small with us.</span>
LOCATION:Mendocino Coast
UID:e.2883.4456
SEQUENCE:3
DTSTAMP:20260423T191114Z
URL:http://mendocinocoast.smartcms.site/events/details/shop-small-saturday-4456
END:VEVENT

END:VCALENDAR
