BEGIN:VCALENDAR
VERSION:2.0
PRODID:-//ChamberMaster//Event Calendar 2.0//EN
METHOD:PUBLISH
X-PUBLISHED-TTL:P3D
REFRESH-INTERVAL:P3D
CALSCALE:GREGORIAN
BEGIN:VEVENT
DTSTART:20191130T170000Z
DTEND:20191201T010000Z
X-MICROSOFT-CDO-ALLDAYEVENT:FALSE
SUMMARY:Shop Small Saturday!
DESCRIPTION:Join us for Shop Small Saturday! Skip the big box stores and support local\, just in time for the Holidays. Saturday\, November 30.\n\n\n\nThis event is sponsored by Visit Fort Bragg\, California\n\n\n\nWe will have two different welcome centers\, one at Town Hall in Fort Bragg and one at Harvest at Mendosa's in Mendocino. Shoppers will pick up a map of participating merchants\, and a shopping bag from either welcome center. We will provide each merchant with our "Shop Small Cards" to hand out to shoppers. Shoppers can visit as many merchants as desired\, and the more shops visited\, the more cards you get for our gift basket drawings! We will have different gift baskets at each welcome center. You can drop all of your shop small cards into 1 gift basket\, or spread them out between various baskets that you would like to win. \n\n\n\nIf you are a shopper\, you don't need to do anything to participate\, just show up to one of our welcome centers on November 30th!
X-ALT-DESC;FMTTYPE=text/html:<span style="caret-color: rgb(29\, 33\, 41)\; color: rgb(29\, 33\, 41)\; font-family: system-ui\, -apple-system\, BlinkMacSystemFont\, &quot\;.SFNSText-Regular&quot\;\, sans-serif\; font-size: 14px\; white-space: pre-wrap\;">Join us for Shop Small Saturday! Skip the big box stores and support local\, just in time for the Holidays. Saturday\, November 30.</span><br style="caret-color: rgb(29\, 33\, 41)\; color: rgb(29\, 33\, 41)\; font-family: system-ui\, -apple-system\, BlinkMacSystemFont\, &quot\;.SFNSText-Regular&quot\;\, sans-serif\; font-size: 14px\; white-space: pre-wrap\;" />\n<br style="caret-color: rgb(29\, 33\, 41)\; color: rgb(29\, 33\, 41)\; font-family: system-ui\, -apple-system\, BlinkMacSystemFont\, &quot\;.SFNSText-Regular&quot\;\, sans-serif\; font-size: 14px\; white-space: pre-wrap\;" />\n<span style="caret-color: rgb(29\, 33\, 41)\; color: rgb(29\, 33\, 41)\; font-family: system-ui\, -apple-system\, BlinkMacSystemFont\, &quot\;.SFNSText-Regular&quot\;\, sans-serif\; font-size: 14px\; white-space: pre-wrap\;">This event is sponsored by </span><a href="https://www.facebook.com/fortbraggca/" style="color: rgb(56\, 88\, 152)\; cursor: pointer\; text-decoration: none\; font-family: system-ui\, -apple-system\, BlinkMacSystemFont\, &quot\;.SFNSText-Regular&quot\;\, sans-serif\; font-size: 14px\; white-space: pre-wrap\;" target="_blank">Visit Fort Bragg\, California</a><br style="caret-color: rgb(29\, 33\, 41)\; color: rgb(29\, 33\, 41)\; font-family: system-ui\, -apple-system\, BlinkMacSystemFont\, &quot\;.SFNSText-Regular&quot\;\, sans-serif\; font-size: 14px\; white-space: pre-wrap\;" />\n<br style="caret-color: rgb(29\, 33\, 41)\; color: rgb(29\, 33\, 41)\; font-family: system-ui\, -apple-system\, BlinkMacSystemFont\, &quot\;.SFNSText-Regular&quot\;\, sans-serif\; font-size: 14px\; white-space: pre-wrap\;" />\n<span style="caret-color: rgb(29\, 33\, 41)\; color: rgb(29\, 33\, 41)\; font-family: system-ui\, -apple-system\, BlinkMacSystemFont\, &quot\;.SFNSText-Regular&quot\;\, sans-serif\; font-size: 14px\; white-space: pre-wrap\;">We will have two different welcome centers\, one at Town Hall in Fort Bragg and one at Harvest at Mendosa&#39\;s in Mendocino. Shoppers will pick up a map of participating merchants\, and a shopping bag from either welcome center. We will provide each merchant with our &quot\;Shop Small Cards&quot\; to hand out to shoppers. Shoppers can visit as many merchants as desired\, and the more shops visited\, the more cards you get for our gift basket drawings! We will have different gift baskets at each welcome center. You can drop all of your shop small cards into 1 gift basket\, or spread them out between various baskets that you would like to win. </span><br style="caret-color: rgb(29\, 33\, 41)\; color: rgb(29\, 33\, 41)\; font-family: system-ui\, -apple-system\, BlinkMacSystemFont\, &quot\;.SFNSText-Regular&quot\;\, sans-serif\; font-size: 14px\; white-space: pre-wrap\;" />\n<br style="caret-color: rgb(29\, 33\, 41)\; color: rgb(29\, 33\, 41)\; font-family: system-ui\, -apple-system\, BlinkMacSystemFont\, &quot\;.SFNSText-Regular&quot\;\, sans-serif\; font-size: 14px\; white-space: pre-wrap\;" />\n<span style="caret-color: rgb(29\, 33\, 41)\; color: rgb(29\, 33\, 41)\; font-family: system-ui\, -apple-system\, BlinkMacSystemFont\, &quot\;.SFNSText-Regular&quot\;\, sans-serif\; font-size: 14px\; white-space: pre-wrap\;">If you are a shopper\, you don&#39\;t need to do anything to participate\, just show up to one of our welcome centers on November 30th!</span>
LOCATION:Mendocino Coast
UID:e.2883.12584
SEQUENCE:3
DTSTAMP:20260422T011431Z
URL:http://mendocinocoast.smartcms.site/events/details/shop-small-saturday-12584
END:VEVENT

END:VCALENDAR
