BEGIN:VCALENDAR
VERSION:2.0
PRODID:-//ChamberMaster//Event Calendar 2.0//EN
METHOD:PUBLISH
X-PUBLISHED-TTL:P3D
REFRESH-INTERVAL:P3D
CALSCALE:GREGORIAN
BEGIN:VEVENT
DTSTART:20200126T033000Z
DTEND:20200126T050000Z
X-MICROSOFT-CDO-ALLDAYEVENT:FALSE
SUMMARY:Sherry Glaser's Greatest Hits...the Mendo Years\, 1993-2018
DESCRIPTION:Writer\, comedian\, and social activist Sherry Glaser returns to the Mendocino Theater Company with a jam packed theatrical retrospective of her solo works including FAMILY SECRETS\, OH MY GODDESS\, TAKING THE HIGH ROAD and THE ADVENTURES OF SUPER ACTIVIST MOTHER.\n\n \n\nGlaser moved to Comptche in 1993 and all her greatest theater success began from there with her award winning Off-Broadway fun of FAMILY SECRETS.  She will provide the local narrative that then inspired all her subsequent shows.
X-ALT-DESC;FMTTYPE=text/html:<div>Writer\, comedian\, and social activist Sherry Glaser returns to the Mendocino Theater Company with a jam packed theatrical retrospective of her solo works including FAMILY SECRETS\, OH MY GODDESS\, TAKING THE HIGH ROAD and THE ADVENTURES OF SUPER ACTIVIST MOTHER.<br />\n&nbsp\;</div>\n\n<div>Glaser moved to Comptche in 1993 and all her greatest theater success began from there with her award winning Off-Broadway fun of FAMILY SECRETS.&nbsp\; She will provide the local narrative that then inspired all her subsequent shows.&nbsp\;</div>\n
LOCATION:Mendocino Theatre Company 45200 Little Lake Street Mendocino
UID:e.2883.12630
SEQUENCE:3
DTSTAMP:20260421T215506Z
URL:http://mendocinocoast.smartcms.site/events/details/sherry-glaser-s-greatest-hits-the-mendo-years-1993-2018-12630
END:VEVENT

END:VCALENDAR
