BEGIN:VCALENDAR
VERSION:2.0
PRODID:-//ChamberMaster//Event Calendar 2.0//EN
METHOD:PUBLISH
X-PUBLISHED-TTL:P3D
REFRESH-INTERVAL:P3D
CALSCALE:GREGORIAN
BEGIN:VEVENT
DTSTART:20190201T020000Z
DTEND:20190201T040000Z
X-MICROSOFT-CDO-ALLDAYEVENT:FALSE
SUMMARY:Selecting the Right Business Entity
DESCRIPTION:Is your business operating under the right entity? Get your questions answered in this informative workshop. What works for one business might not be the best fit for yours. Instructed by attorney Debra DeCarli\, this workshop will help you learn the basics of each business legal form. This workshop will also cover everything from how to choose the proper entity for long-term success to the legal ramifications of various business forms. Find out the answers to your questions and more by registering today! Instructor: Debra DeCarli practiced law in San Francisco\, handling complex litigation all over the country before moving to Mendocino. She excels at listening and translating into workable strategies and solutions.
X-ALT-DESC;FMTTYPE=text/html:Is your business operating under the right entity? Get your questions answered in this informative workshop. What works for one business might not be the best fit for yours. Instructed by attorney Debra DeCarli\, this workshop will help you learn the basics of each business legal form. This workshop will also cover everything from how to choose the proper entity for long-term success to the legal ramifications of various business forms. Find out the answers to your questions and more by registering today! Instructor: Debra DeCarli practiced law in San Francisco\, handling complex litigation all over the country before moving to Mendocino. She excels at listening and translating into workable strategies and solutions.
LOCATION:West Business Development Center 345 North Franklin Street Fort Bragg\, CA 95437
UID:e.2883.11251
SEQUENCE:3
DTSTAMP:20260422T174146Z
URL:http://mendocinocoast.smartcms.site/events/details/selecting-the-right-business-entity-11251
END:VEVENT

END:VCALENDAR
