BEGIN:VCALENDAR
VERSION:2.0
PRODID:-//ChamberMaster//Event Calendar 2.0//EN
METHOD:PUBLISH
X-PUBLISHED-TTL:P3D
REFRESH-INTERVAL:P3D
CALSCALE:GREGORIAN
BEGIN:VEVENT
DTSTART:20190309T200000Z
DTEND:20190309T213000Z
X-MICROSOFT-CDO-ALLDAYEVENT:FALSE
SUMMARY:Second Saturdays with Sue\, Free Art & Science Activities for Kids
DESCRIPTION:Saturday's with Sue is a FREE program brought to you by the Noyo Center! Education Coordinator\, Sue "Magoo" Coulter invites your kiddos to our new marine science educational center located at 338 N. Main St. in Fort Bragg for fun activities all about the ocean! Children 6 years of age or older may be dropped off and picked up at 1:30pm or you are welcome to stay with your child and join in on the fun. Children 5 years of age or younger must be accompanied by an adult.
X-ALT-DESC;FMTTYPE=text/html:Saturday&rsquo\;s with Sue is a FREE program brought to you by the Noyo Center! Education Coordinator\, Sue &ldquo\;Magoo&rdquo\; Coulter invites your kiddos to our new marine science educational center located at 338 N. Main St. in Fort Bragg for fun activities all about the ocean! Children 6 years of age or older may be dropped off and picked up at 1:30pm or you are welcome to stay with your child and join in on the fun. Children 5 years of age or younger must be accompanied by an adult.
LOCATION:Downtown Noyo Center for Marine Science 338 N. Main Street Fort Bragg\, CA 94537
UID:e.2883.11306
SEQUENCE:3
DTSTAMP:20260422T143927Z
URL:http://mendocinocoast.smartcms.site/events/details/second-saturdays-with-sue-free-art-science-activities-for-kids-11306
END:VEVENT

END:VCALENDAR
