BEGIN:VCALENDAR
VERSION:2.0
PRODID:-//ChamberMaster//Event Calendar 2.0//EN
METHOD:PUBLISH
X-PUBLISHED-TTL:P3D
REFRESH-INTERVAL:P3D
CALSCALE:GREGORIAN
BEGIN:VEVENT
DTSTART:20190628T000000Z
DTEND:20190628T020000Z
X-MICROSOFT-CDO-ALLDAYEVENT:FALSE
SUMMARY:Sean VanBuskirk at Smithwood Mercantile
DESCRIPTION:Live music\, beer & wine!
X-ALT-DESC;FMTTYPE=text/html:Live music\, beer &amp\; wine!
LOCATION:Smithwood Mercantile 45000 Main St. Mendocino\, CA
UID:e.2883.11766
SEQUENCE:3
DTSTAMP:20260422T094324Z
URL:http://mendocinocoast.smartcms.site/events/details/sean-vanbuskirk-at-smithwood-mercantile-11766
END:VEVENT

END:VCALENDAR
