BEGIN:VCALENDAR
VERSION:2.0
PRODID:-//ChamberMaster//Event Calendar 2.0//EN
METHOD:PUBLISH
X-PUBLISHED-TTL:P3D
REFRESH-INTERVAL:P3D
CALSCALE:GREGORIAN
BEGIN:VEVENT
DTSTART:20180714T160000Z
DTEND:20180715T230000Z
X-MICROSOFT-CDO-ALLDAYEVENT:FALSE
SUMMARY:Sea Kayaking 101
DESCRIPTION:Learn to sea kayak on the beautiful Mendocino Coast! \n\nThis class is a great first sea kayak class or a refresher for those who want to improve their technique.  Day one is foundation sea kayak skills instruction including maneuvering strokes\, forward and reverse strokes\, safety\, and rescue skills.  The skills instruction is focused on easy and efficient use of body\, boat\, and blade.  Day two is a journey from the estuary out into the ocean.  During this journey\, we will be refining skills and applying them to the ocean environment.  Over the course of both days\, we will be watching wildlife\, checking out coastal rock formations\, and enjoying the beauty of the Mendocino Coast.\n\nThis is a great opportunity to kayak with LFK on both the Noyo River\, the Noyo Harbor\, and the Pacific Ocean.  Students have the option of using a decked sea kayak or a sit on top touring kayak for this class.  We recommend doing both days but students may opt to do only one.  Day one or a comparable course is required before doing the ocean journey on day 2.\n\n$270/person using their own equipment.  Kayak and equipment rentals are available.\n\n\n\nReservations are necessary.  Here is a link for more information and reservations.
X-ALT-DESC;FMTTYPE=text/html:<h2 style="text-align:center"><strong>Learn to sea kayak on the beautiful Mendocino Coast!</strong>&nbsp\;</h2>\n\n<p>This class is a great first sea kayak class or a refresher for those who want to improve their technique.&nbsp\; Day one is foundation sea kayak skills instruction including maneuvering strokes\, forward and reverse strokes\, safety\, and rescue skills.&nbsp\; The skills instruction is focused on easy and efficient use of body\, boat\, and blade.&nbsp\; Day two is a journey from the estuary out into the ocean.&nbsp\; During this journey\, we will be refining skills and applying them to the ocean environment.&nbsp\; Over the course of both days\, we will be watching wildlife\, checking out coastal rock formations\, and enjoying the beauty of the Mendocino Coast.</p>\n\n<p>This is a great opportunity to kayak with LFK on both the Noyo River\, the Noyo Harbor\, and the Pacific Ocean.&nbsp\; Students have the option of using a decked sea kayak or a sit on top touring kayak for this class.&nbsp\; We recommend doing both days but students may opt to do only one.&nbsp\; Day one or a comparable course is required before doing the ocean journey on day 2.</p>\n\n<p>$270/person using their own equipment.&nbsp\; Kayak and equipment rentals are available.<br />\n<br />\nReservations are necessary.&nbsp\; Here is a <a href="https://liquidfusionkayak.com/events/2018/6/9/sea-kayaking-101">link</a> for more information and reservations.</p>\n
LOCATION:
UID:e.2883.9100
SEQUENCE:3
DTSTAMP:20260423T040648Z
URL:http://mendocinocoast.smartcms.site/events/details/sea-kayaking-101-9100
END:VEVENT

END:VCALENDAR
