BEGIN:VCALENDAR
VERSION:2.0
PRODID:-//ChamberMaster//Event Calendar 2.0//EN
METHOD:PUBLISH
X-PUBLISHED-TTL:P3D
REFRESH-INTERVAL:P3D
CALSCALE:GREGORIAN
BEGIN:VEVENT
DTSTART:20191215T000000Z
DTEND:20191215T030000Z
X-MICROSOFT-CDO-ALLDAYEVENT:FALSE
SUMMARY:Scotch Tasting
DESCRIPTION:Kelley house Museum Events
X-ALT-DESC;FMTTYPE=text/html:Kelley house Museum Events
LOCATION:Kelley House 45007 Albion St. Mendocino\,CA 95460
UID:e.2883.12592
SEQUENCE:3
DTSTAMP:20260421T232743Z
URL:http://mendocinocoast.smartcms.site/events/details/scotch-tasting-12592
END:VEVENT

END:VCALENDAR
