BEGIN:VCALENDAR
VERSION:2.0
PRODID:-//ChamberMaster//Event Calendar 2.0//EN
METHOD:PUBLISH
X-PUBLISHED-TTL:P3D
REFRESH-INTERVAL:P3D
CALSCALE:GREGORIAN
BEGIN:VEVENT
DTSTART:20190731T013000Z
DTEND:20190731T033000Z
X-MICROSOFT-CDO-ALLDAYEVENT:FALSE
SUMMARY:Scientific Illustration Workshop
DESCRIPTION:Taught by Jasmine O'neill-Martin\, this is a class for anyone with a desire to learn to draw. No previous art experience needed. Really! This is a 2-hour workshop. Cost of materials included in workshop fee.  Marine mammal bones\, seashells\, and other specimens will be provided.
X-ALT-DESC;FMTTYPE=text/html:Taught by Jasmine O&rsquo\;neill-Martin\, this is a class for anyone with a desire to learn to draw. No previous art experience needed. Really! This is a 2-hour workshop. Cost of materials included in workshop fee.&nbsp\; Marine mammal bones\, seashells\, and other specimens will be provided.
LOCATION:Downtown Noyo Center for Marine Science
UID:e.2883.11903
SEQUENCE:3
DTSTAMP:20260422T080743Z
URL:http://mendocinocoast.smartcms.site/events/details/scientific-illustration-workshop-11903
END:VEVENT

END:VCALENDAR
