BEGIN:VCALENDAR
VERSION:2.0
PRODID:-//ChamberMaster//Event Calendar 2.0//EN
METHOD:PUBLISH
X-PUBLISHED-TTL:P3D
REFRESH-INTERVAL:P3D
CALSCALE:GREGORIAN
BEGIN:VEVENT
DTSTART:20200201T023000Z
DTEND:20200201T040000Z
X-MICROSOFT-CDO-ALLDAYEVENT:FALSE
SUMMARY:Science Talk: Climate Hope- Optimism and Solutions around Climate Change
DESCRIPTION:Adam Ratner\, a marine scientist and educator with The Marine Mammal Center\, will inspire people to take action on climate through a focus on solutions and hope rather than data and fear. Come get a dose of optimism from The Marine Mammal Center\, the world's largest marine mammal hospital and a global leader in conservation\, as we talk about the climate solutions happening around the world that provide the sense of empowerment and agency we need to tackle the climate issue.
X-ALT-DESC;FMTTYPE=text/html:Adam Ratner\, a marine scientist and educator with The Marine Mammal Center\, will inspire people to take action on climate through a focus on solutions and hope rather than data and fear. Come get a dose of optimism from The Marine Mammal Center\, the world&rsquo\;s largest marine mammal hospital and a global leader in conservation\, as we talk about the climate solutions happening around the world that provide the sense of empowerment and agency we need to tackle the climate issue.
LOCATION:Downtown Noyo Center for Marine Science 338 N. Main Street Fort Bragg\, CA 95437
UID:e.2883.12629
SEQUENCE:3
DTSTAMP:20260421T232915Z
URL:http://mendocinocoast.smartcms.site/events/details/science-talk-climate-hope-optimism-and-solutions-around-climate-change-12629
END:VEVENT

END:VCALENDAR
