BEGIN:VCALENDAR
VERSION:2.0
PRODID:-//ChamberMaster//Event Calendar 2.0//EN
METHOD:PUBLISH
X-PUBLISHED-TTL:P3D
REFRESH-INTERVAL:P3D
CALSCALE:GREGORIAN
BEGIN:VEVENT
DTSTART;VALUE=DATE:20170206
DTEND;VALUE=DATE:20170207
TRANSP:TRANSPARENT
X-MICROSOFT-CDO-ALLDAYEVENT:TRUE
SUMMARY:Scene Study Workshop for Actors
DESCRIPTION:CONTEMPORARY SCENE STUDY with NYC director Stephanie C. CunninghamSpecial Mendocino Price: $120.Expand your creative potential while working with a NYC professional! This four part workshop (5/14\, 5/28\, 6/10\, and 6/11) is a combination of acting techniques paired with textual exploration and actor preparation. We will examine contemporary scenes and how the prepared actor approaches them with a variety of techniques. Participants will be asked to get off book for a short scene.Register HERE. Â For more information\, please phone 707-937-2718.
X-ALT-DESC;FMTTYPE=text/html:<p>CONTEMPORARY SCENE STUDY with NYC director <a href="http://www.stephanieccunningham.com/">Stephanie C. Cunningham</a></p><p>Special Mendocino Price: $120.</p><p>Expand your creative potential while working with a NYC professional! This four part workshop (5/14\, 5/28\, 6/10\, and 6/11) is a combination of acting techniques paired with textual exploration and actor preparation. We will examine contemporary scenes and how the prepared actor approaches them with a variety of techniques. Participants will be asked to get off book for a short scene.</p><p>Register <a href="https://mendotheatreco.wufoo.com/forms/zef9qu00jhz40o/">HERE</a>. Â For more information\, please phone 707-937-2718.</p>
LOCATION:Mendocino Theatre Company
UID:e.2883.1115
SEQUENCE:3
DTSTAMP:20260424T093453Z
URL:http://mendocinocoast.smartcms.site/events/details/scene-study-workshop-for-actors-02-06-2017-1115
END:VEVENT

END:VCALENDAR
