BEGIN:VCALENDAR
VERSION:2.0
PRODID:-//ChamberMaster//Event Calendar 2.0//EN
METHOD:PUBLISH
X-PUBLISHED-TTL:P3D
REFRESH-INTERVAL:P3D
CALSCALE:GREGORIAN
BEGIN:VEVENT
DTSTART:20200927T000000Z
DTEND:20200927T030000Z
X-MICROSOFT-CDO-ALLDAYEVENT:FALSE
SUMMARY:Saturday Nite Blues & Jazz with Earl Oliver at Noyo River Grill
DESCRIPTION:On Saturday\, September 26th at 5:00 PM\, Earl Oliver will be the featured performer for the evening. Noyo River Grill is located in Noyo Harbor at 32150 N Harbor Dr\, Fort Bragg\, CA.
X-ALT-DESC;FMTTYPE=text/html:On Saturday\, September 26th at 5:00 PM\, Earl Oliver will be the featured performer for the evening. Noyo River Grill is located in Noyo Harbor at 32150 N Harbor Dr\, Fort Bragg\, CA.
LOCATION:32150 N Harbor Dr\, Fort Bragg\, CA.
UID:e.2883.12991
SEQUENCE:3
DTSTAMP:20260421T080703Z
URL:http://mendocinocoast.smartcms.site/events/details/saturday-nite-blues-jazz-with-earl-oliver-at-noyo-river-grill-09-26-2020-12991
END:VEVENT

END:VCALENDAR
